



BEGIN:VCALENDAR
VERSION:2.0
PRODID:-//Schoolcraft College - ECPv6.15.17.1//NONSGML v1.0//EN
CALSCALE:GREGORIAN
METHOD:PUBLISH
X-WR-CALNAME:Schoolcraft College
X-ORIGINAL-URL:https://www.schoolcraft.edu
X-WR-CALDESC:Events for Schoolcraft College
REFRESH-INTERVAL;VALUE=DURATION:PT1H
X-Robots-Tag:noindex
X-PUBLISHED-TTL:PT1H
BEGIN:VTIMEZONE
TZID:UTC
BEGIN:STANDARD
TZOFFSETFROM:+0000
TZOFFSETTO:+0000
TZNAME:UTC
DTSTART:20250101T000000
END:STANDARD
END:VTIMEZONE
BEGIN:VEVENT
DTSTART;TZID=UTC:20260413T090000
DTEND;TZID=UTC:20260413T170000
DTSTAMP:20260422T022215
CREATED:20260312T180519Z
LAST-MODIFIED:20260312T180519Z
UID:8699-1776070800-1776099600@www.schoolcraft.edu
SUMMARY:Advising with Wayne State University: Mike Ilitch School of Business 
DESCRIPTION:Monday\, 9AM–5PM\, JC-330\, or Remote Tuesday\, 9AM–5PM\, JC-330\, or Remote Thursday\, 9AM–5PM\, JC-330\, or Remote  \n\n\n\n\n\n\n\n\nAre you planning to transfer to Wayne State University: Mike Ilitch School of Business?  \n\n\n\nNo need to make the trip to their campus. You can meet with one of their academic advisors right here at Schoolcraft and learn more about their process\, requirements\, and program offerings.  \n\n\n\nAdvisors will be able to meet with students individually to discuss specific information about programs and transfer options.  
URL:https://www.schoolcraft.edu/event/advising-with-wayne-state-university-mike-ilitch-school-of-business-2/2026-04-13/
ATTACH;FMTTYPE=image/jpeg:https://www.schoolcraft.edu/wp-content/uploads/2024/08/wsu-mi-school-business.jpg
ORGANIZER;CN="Academic Advising":MAILTO:eadvise@schoolcraft.edu
END:VEVENT
BEGIN:VEVENT
DTSTART;TZID=UTC:20260414T090000
DTEND;TZID=UTC:20260414T160000
DTSTAMP:20260422T022215
CREATED:20260123T160041Z
LAST-MODIFIED:20260123T160114Z
UID:8456-1776157200-1776182400@www.schoolcraft.edu
SUMMARY:Advising with University of Michigan Dearborn
DESCRIPTION:Location: McDowell MC-105 \n\n\n\n\n\n\n\n\n\n\nAre you planning to transfer to University of Michigan Dearborn? \n\n\n\nNo need to make the trip to their campus. You can meet with one of their academic advisors right here at Schoolcraft and learn more about their process\, requirements\, and program offerings. \n\n\n\nAdvisors will be able to meet with students individually to discuss specific information about programs and transfer options.
URL:https://www.schoolcraft.edu/event/advising-with-university-of-michigan-dearborn-2/2026-04-14/
CATEGORIES:University Visits
ATTACH;FMTTYPE=image/jpeg:https://www.schoolcraft.edu/wp-content/uploads/2025/01/um-dearborn.jpg
ORGANIZER;CN="Academic Advising":MAILTO:eadvise@schoolcraft.edu
END:VEVENT
BEGIN:VEVENT
DTSTART;TZID=UTC:20260414T090000
DTEND;TZID=UTC:20260414T170000
DTSTAMP:20260422T022215
CREATED:20260312T180519Z
LAST-MODIFIED:20260312T180519Z
UID:8700-1776157200-1776186000@www.schoolcraft.edu
SUMMARY:Advising with Wayne State University: Mike Ilitch School of Business 
DESCRIPTION:Monday\, 9AM–5PM\, JC-330\, or Remote Tuesday\, 9AM–5PM\, JC-330\, or Remote Thursday\, 9AM–5PM\, JC-330\, or Remote  \n\n\n\n\n\n\n\n\nAre you planning to transfer to Wayne State University: Mike Ilitch School of Business?  \n\n\n\nNo need to make the trip to their campus. You can meet with one of their academic advisors right here at Schoolcraft and learn more about their process\, requirements\, and program offerings.  \n\n\n\nAdvisors will be able to meet with students individually to discuss specific information about programs and transfer options.  
URL:https://www.schoolcraft.edu/event/advising-with-wayne-state-university-mike-ilitch-school-of-business-2/2026-04-14/
ATTACH;FMTTYPE=image/jpeg:https://www.schoolcraft.edu/wp-content/uploads/2024/08/wsu-mi-school-business.jpg
ORGANIZER;CN="Academic Advising":MAILTO:eadvise@schoolcraft.edu
END:VEVENT
BEGIN:VEVENT
DTSTART;TZID=UTC:20260415T093000
DTEND;TZID=UTC:20260415T103000
DTSTAMP:20260422T022215
CREATED:20260122T151110Z
LAST-MODIFIED:20260122T220749Z
UID:8448-1776245400-1776249000@www.schoolcraft.edu
SUMMARY:Career Resources Informational Session
DESCRIPTION:Location: L105  \n\n\n\n\n\n\n\n\nLearn more about the Career Mentorship and Placement office and the services provided to students in collaboration with the Bradner Library. \n\n\n\nHosted by: Career Mentorship and Placement and Bradner Library
URL:https://www.schoolcraft.edu/event/career-resources-informational-session-2/2026-04-15/
CATEGORIES:Career Mentorship & Placement,Career Services
ATTACH;FMTTYPE=image/jpeg:https://www.schoolcraft.edu/wp-content/uploads/2026/01/career-info-session-thumb.jpg
END:VEVENT
BEGIN:VEVENT
DTSTART;TZID=UTC:20260415T120000
DTEND;TZID=UTC:20260415T130000
DTSTAMP:20260422T022215
CREATED:20251023T173103Z
LAST-MODIFIED:20251023T173105Z
UID:8158-1776254400-1776258000@www.schoolcraft.edu
SUMMARY:Noon Concert Series: Sherman Concert
DESCRIPTION:Amanda Pabyan\, soprano | Julia Siciliano\, pianoVistatech Center\, Kehrl Auditorium \n\n\n\n\n\n\n\n\nSoprano Amanda Pabyan has been acclaimed for her technical ability\, power and her multi-shaded performances of eclectic repertoire spanning the compositions of Mozart\, Beethoven\, Mahler\, Strauss\, and Britten. \n\n\n\nAward-winning concert pianist Julia Siciliano has an active performing career in both solo and chamber music capacities across stages in North America\, Central America\, Europe and Asia. \n\n\n\n\n\n\n\n\n\nClick to Download PDF
URL:https://www.schoolcraft.edu/event/noon-concert-series-sherman-concert/
CATEGORIES:Arts and Culture,Music
ATTACH;FMTTYPE=image/jpeg:https://www.schoolcraft.edu/wp-content/uploads/2025/10/noon-concert-series-25-26-thumb.jpg
END:VEVENT
BEGIN:VEVENT
DTSTART;TZID=UTC:20260415T150000
DTEND;TZID=UTC:20260415T160000
DTSTAMP:20260422T022215
CREATED:20250508T150033Z
LAST-MODIFIED:20260312T171405Z
UID:8684-1776265200-1776268800@www.schoolcraft.edu
SUMMARY:FAFSA Workshop
DESCRIPTION:Struggling with your FAFSA? Join our Financial Aid Workshop for hands-on help! Get Expert assistance\, ask questions\, and complete your FAFSA with confidence.  \n\n\n\nIt’s never too late to start (or restart) your college journey. \n\n\n\nLocation: MC 040 \n\n\n\nRegistration is required. \n\n\n\nRegister Now \n\n\n\nBefore coming to the event\, please make an FSA ID at https://studentaid.gov/ and review our FAFSA Q&A on the registration page so you bring the right documents. 
URL:https://www.schoolcraft.edu/event/fafsa-workshop/2026-04-15/
CATEGORIES:Financial Aid
ATTACH;FMTTYPE=image/jpeg:https://www.schoolcraft.edu/wp-content/uploads/2025/05/20241014_Marketing_Marketing-Fall24_01_Courtyard-Belltower_1045-1200x800-5b2df79.jpg
ORGANIZER;CN="Financial Aid":MAILTO:finaid@schoolcraft.edu
END:VEVENT
BEGIN:VEVENT
DTSTART;TZID=UTC:20260415T180000
DTEND;TZID=UTC:20260415T190000
DTSTAMP:20260422T022215
CREATED:20220525T154723Z
LAST-MODIFIED:20260204T152337Z
UID:3451-1776276000-1776279600@www.schoolcraft.edu
SUMMARY:Dual Enrollment Information Night
DESCRIPTION:Virtual (Zoom) Event \n\n\n\nSchoolcraft College offers opportunities for high school students to get an early start on earning college credit. The session will begin with a presentation followed by a Q&A session. To learn more join us for our virtual information session. \n\n\n\nSome of the benefits for students who dual enroll: \n\n\n\n\nComplete general education courses to transfer to a four-year university.\n\n\n\nSave significantly on the price of tuition; most\, if not all\, of the cost will be covered by your school district or the Michigan Department of Education.\n\n\n\nExplore career and occupational programs.\n\n\n\nBe challenged academically.\n\n\n\n\n\n\n\n\nPre-registration required. After you register you will be sent an email with a registration confirmation that includes the meeting ID. \n\n\n\nRegister Now \n\n\n\nWe look forward to having you join us to learn more about Dual Enrollment. If you have\, questions contact the Admissions and Welcome Center at 734-462-4683 or admissions@schoolcraft.edu.
URL:https://www.schoolcraft.edu/event/dual-enrollment-information-night-4/
ATTACH;FMTTYPE=image/jpeg:https://www.schoolcraft.edu/wp-content/uploads/2022/05/sc-dual-enrollment-thumb.jpg
END:VEVENT
BEGIN:VEVENT
DTSTART;TZID=UTC:20260416T090000
DTEND;TZID=UTC:20260416T113000
DTSTAMP:20260422T022215
CREATED:20250409T181944Z
LAST-MODIFIED:20260408T194945Z
UID:8574-1776330000-1776339000@www.schoolcraft.edu
SUMMARY:Federal Government Contracting 101
DESCRIPTION:In Person  – No fee to attend\, but registration is required. \n\n\n\n\n\n\n\nAre you a business owner looking to navigate the federal marketplace? \n\n\n\nThe government buys almost every good or service imaginable. The steps to becoming a government contractor include understanding contractor responsibility\, identifying which agencies buy what you sell\, positioning your business to optimize your success when approaching government agencies and more. \n\n\n\nThis session provides you with an overview of: \n\n\n\n\nAPEX Accelerators Services\n\n\n\nSystem for Award Management (SAM) Registration & Validation Process\n\n\n\nSmall Business Program Certifications\n\n\n\nDoD Defense Priorities\n\n\n\nMarketing to federal agencies\n\n\n\nFinding federal contracting opportunities  \n\n\n\n\n\n\n\n\nPresenter: Procurement Counselor\, Schoolcraft APEX Accelerator \n\n\n\nNo fee to attend\, but registration is required. \n\n\n\n\n\n\n\nRegister Now \n\n\n\n\n\n\n\nSchoolcraft APEX Accelerator Team 734-462-4438 or apex@schoolcraft.edu \n\n\n\nThis APEX Accelerator is funded in part through a cooperative agreement with the Department of Defense. Additionally\, the Schoolcraft College APEX Accelerator is funded by the Michigan Economic Development Corporation (MEDC) and Schoolcraft College.
URL:https://www.schoolcraft.edu/event/federal-government-contracting-101-2/2026-04-16/
CATEGORIES:Workforce & Economic Development
ATTACH;FMTTYPE=image/png:https://www.schoolcraft.edu/wp-content/uploads/2024/01/feature-gov-contracts.png
END:VEVENT
BEGIN:VEVENT
DTSTART;TZID=UTC:20260416T090000
DTEND;TZID=UTC:20260416T170000
DTSTAMP:20260422T022215
CREATED:20260123T160805Z
LAST-MODIFIED:20260123T161058Z
UID:8468-1776330000-1776358800@www.schoolcraft.edu
SUMMARY:Advising with Wayne State University: Mike Ilitch School of Business
DESCRIPTION:Location: JC-330 or Remote \n\n\n\n\n\n\n\n\n\n\nAre you planning to transfer to Wayne State University: Mike Ilitch School of Business? \n\n\n\nNo need to make the trip to their campus. You can meet with one of their academic advisors right here at Schoolcraft and learn more about their process\, requirements\, and program offerings. \n\n\n\nAdvisors will be able to meet with students individually to discuss specific information about programs and transfer options.
URL:https://www.schoolcraft.edu/event/advising-with-wayne-state-university-mike-ilitch-school-of-business/2026-04-16/
CATEGORIES:University Visits
ATTACH;FMTTYPE=image/jpeg:https://www.schoolcraft.edu/wp-content/uploads/2024/08/wsu-mi-school-business.jpg
ORGANIZER;CN="Academic Advising":MAILTO:eadvise@schoolcraft.edu
END:VEVENT
BEGIN:VEVENT
DTSTART;TZID=UTC:20260416T090000
DTEND;TZID=UTC:20260416T170000
DTSTAMP:20260422T022215
CREATED:20260312T180519Z
LAST-MODIFIED:20260312T180519Z
UID:8701-1776330000-1776358800@www.schoolcraft.edu
SUMMARY:Advising with Wayne State University: Mike Ilitch School of Business 
DESCRIPTION:Monday\, 9AM–5PM\, JC-330\, or Remote Tuesday\, 9AM–5PM\, JC-330\, or Remote Thursday\, 9AM–5PM\, JC-330\, or Remote  \n\n\n\n\n\n\n\n\nAre you planning to transfer to Wayne State University: Mike Ilitch School of Business?  \n\n\n\nNo need to make the trip to their campus. You can meet with one of their academic advisors right here at Schoolcraft and learn more about their process\, requirements\, and program offerings.  \n\n\n\nAdvisors will be able to meet with students individually to discuss specific information about programs and transfer options.  
URL:https://www.schoolcraft.edu/event/advising-with-wayne-state-university-mike-ilitch-school-of-business-2/2026-04-16/
ATTACH;FMTTYPE=image/jpeg:https://www.schoolcraft.edu/wp-content/uploads/2024/08/wsu-mi-school-business.jpg
ORGANIZER;CN="Academic Advising":MAILTO:eadvise@schoolcraft.edu
END:VEVENT
BEGIN:VEVENT
DTSTART;TZID=UTC:20260416T100000
DTEND;TZID=UTC:20260416T120000
DTSTAMP:20260422T022215
CREATED:20260127T193500Z
LAST-MODIFIED:20260127T193602Z
UID:8498-1776333600-1776340800@www.schoolcraft.edu
SUMMARY:Advising with Madonna University
DESCRIPTION:Location: McDowell MC-105 \n\n\n\n\n\n\n\nAre you planning to transfer to Madonna University? \n\n\n\nNo need to make the trip to their campus. You can meet with one of their academic advisors right here at Schoolcraft and learn more about their process\, requirements\, and program offerings. \n\n\n\nAdvisors will be able to meet with students individually to discuss specific information about programs and transfer options.
URL:https://www.schoolcraft.edu/event/advising-with-madonna-university-2/2026-04-16/
CATEGORIES:University Visits
ATTACH;FMTTYPE=image/jpeg:https://www.schoolcraft.edu/wp-content/uploads/2025/08/madonna-university-thumb.jpg
ORGANIZER;CN="Academic Advising":MAILTO:eadvise@schoolcraft.edu
END:VEVENT
BEGIN:VEVENT
DTSTART;TZID=UTC:20260416T130000
DTEND;TZID=UTC:20260416T160000
DTSTAMP:20260422T022215
CREATED:20260127T192326Z
LAST-MODIFIED:20260127T193512Z
UID:8490-1776344400-1776355200@www.schoolcraft.edu
SUMMARY:Advising with Wayne State University: General Advising
DESCRIPTION:Location: McDowell MC-105 \n\n\n\n\n\n\n\n\nAre you planning to transfer to Wayne State University: General Advising? \n\n\n\nNo need to make the trip to their campus. You can meet with one of their academic advisors right here at Schoolcraft and learn more about their process\, requirements\, and program offerings. \n\n\n\nAdvisors will be able to meet with students individually to discuss specific information about programs and transfer options.
URL:https://www.schoolcraft.edu/event/advising-with-wayne-state-university-general-advising-2/2026-04-16/
CATEGORIES:University Visits
ATTACH;FMTTYPE=image/jpeg:https://www.schoolcraft.edu/wp-content/uploads/2025/01/wayne-state-university.jpg
ORGANIZER;CN="Academic Advising":MAILTO:eadvise@schoolcraft.edu
END:VEVENT
END:VCALENDAR