



BEGIN:VCALENDAR
VERSION:2.0
PRODID:-//Schoolcraft College - ECPv6.15.17.1//NONSGML v1.0//EN
CALSCALE:GREGORIAN
METHOD:PUBLISH
X-WR-CALNAME:Schoolcraft College
X-ORIGINAL-URL:https://www.schoolcraft.edu
X-WR-CALDESC:Events for Schoolcraft College
REFRESH-INTERVAL;VALUE=DURATION:PT1H
X-Robots-Tag:noindex
X-PUBLISHED-TTL:PT1H
BEGIN:VTIMEZONE
TZID:UTC
BEGIN:STANDARD
TZOFFSETFROM:+0000
TZOFFSETTO:+0000
TZNAME:UTC
DTSTART:20240101T000000
END:STANDARD
END:VTIMEZONE
BEGIN:VEVENT
DTSTART;TZID=UTC:20251208T090000
DTEND;TZID=UTC:20251208T120000
DTSTAMP:20260419T154015
CREATED:20250829T142832Z
LAST-MODIFIED:20250829T142832Z
UID:7912-1765184400-1765195200@www.schoolcraft.edu
SUMMARY:Advising with Oakland University
DESCRIPTION:Are you planning to transfer to Oakland University? \n\n\n\nNo need to make the trip to their campus. You can meet with one of their academic advisors right here at Schoolcraft and learn more about their process\, requirements\, and program offerings. \n\n\n\nAdvisors will be able to meet with students individually to discuss specific information about programs and transfer options. \n\n\n\nSimply sign in at the Advising office\, in the McDowell Center\, room 105. This walk-in advising service is available to any current Schoolcraft student. Students will be seen on a first-come first-seen basis. \n\n\n\nIf you have any questions\, call 734-462-4429.
URL:https://www.schoolcraft.edu/event/advising-with-oakland-university/2025-12-08/
CATEGORIES:University Visits
ATTACH;FMTTYPE=image/jpeg:https://www.schoolcraft.edu/wp-content/uploads/2025/02/oakland-university.jpg
ORGANIZER;CN="Academic Advising":MAILTO:eadvise@schoolcraft.edu
END:VEVENT
BEGIN:VEVENT
DTSTART;TZID=UTC:20251209T090000
DTEND;TZID=UTC:20251209T100000
DTSTAMP:20260419T154015
CREATED:20250502T152750Z
LAST-MODIFIED:20260408T195055Z
UID:8106-1765270800-1765274400@www.schoolcraft.edu
SUMMARY:Proposal & Bidding Best Practices
DESCRIPTION:Virtual – No fee\, registration is required. \n\n\n\n\n\n\n\nWinning government contracts requires proper planning and preparation. This session is designed to provide you with best practices for reviewing solicitations\, preparing proposals\, and steps to consider when awarded or not awarded a government contract. \n\n\n\nAs a result of this session\, you will: \n\n\n\n\nIdentify the qualities of a responsible contractor\n\n\n\nLearn how the government makes award determinations\n\n\n\nUnderstand relevant FAR clauses listed in the solicitation\n\n\n\nKnow your rights regarding debriefs and protests\n\n\n\nLearn what it means to be responsive and responsible\n\n\n\n\n\n\n\n\n\n\n\n\nRegister Now \n\n\n\n\n\n\n\nSchoolcraft APEX Accelerator Team734-462-4438 or apex@schoolcraft.edu \n\n\n\nThis APEX Accelerator is funded in part through a cooperative agreement with the Department of Defense. Additionally\, the Schoolcraft College APEX Accelerator is funded by the Michigan Economic Development Corporation (MEDC) and Schoolcraft College.
URL:https://www.schoolcraft.edu/event/proposal-writing-bidding-best-practices-2/2025-12-09/
CATEGORIES:Workforce & Economic Development
ATTACH;FMTTYPE=image/png:https://www.schoolcraft.edu/wp-content/uploads/2026/01/proposal-best-bidding.png
ORGANIZER;CN="Workforce &amp%3B Economic Development":MAILTO:bdc@schoolcraft.edu
END:VEVENT
BEGIN:VEVENT
DTSTART;TZID=UTC:20251209T100000
DTEND;TZID=UTC:20251209T130000
DTSTAMP:20260419T154015
CREATED:20251001T193404Z
LAST-MODIFIED:20251001T193404Z
UID:8065-1765274400-1765285200@www.schoolcraft.edu
SUMMARY:Wayne State University Visit
DESCRIPTION:Representatives from Wayne State University will be available to meet with Schoolcraft students to answer general questions about transfer options. \n\n\n\nDate & Location Info: \n\n\n\n\n\n\nMonday Oct. 13th\, from 10am – 1pm\, at the Forum.\n\n\n\nWednesday Nov. 19th\, from 10am – 1pm\, at Liberal Arts.\n\n\n\nWednesday Dec. 9th\, from 10am – 1pm\, at Health Science.
URL:https://www.schoolcraft.edu/event/wayne-state-university-visit-2/2025-12-09/
CATEGORIES:University Visits
ATTACH;FMTTYPE=image/jpeg:https://www.schoolcraft.edu/wp-content/uploads/2025/01/wayne-state-university.jpg
END:VEVENT
BEGIN:VEVENT
DTSTART;TZID=UTC:20251209T160000
DTEND;TZID=UTC:20251209T170000
DTSTAMP:20260419T154015
CREATED:20251207T173921Z
LAST-MODIFIED:20251207T173923Z
UID:8284-1765296000-1765299600@www.schoolcraft.edu
SUMMARY:Schoolcraft College Synthesizer Ensemble 
DESCRIPTION:Winter Concert\n\n\n\nTuesday\, December 9\, 2025\n\n\n\n4:00 PM\n\n\n\nForum Auditorium (Room 530 in Forum)
URL:https://www.schoolcraft.edu/event/schoolcraft-college-synthesizer-ensemble/
CATEGORIES:Arts and Culture,Music
ATTACH;FMTTYPE=image/jpeg:https://www.schoolcraft.edu/wp-content/uploads/2025/12/sc-music-thumb.jpg
ORGANIZER;CN="Music":MAILTO:music@schoolcraft.edu
END:VEVENT
BEGIN:VEVENT
DTSTART;TZID=UTC:20251210T090000
DTEND;TZID=UTC:20251210T130000
DTSTAMP:20260419T154015
CREATED:20250829T144258Z
LAST-MODIFIED:20250829T144258Z
UID:7923-1765357200-1765371600@www.schoolcraft.edu
SUMMARY:Advising with Eastern Michigan University
DESCRIPTION:Are you planning to transfer to Eastern Michigan University? \n\n\n\nNo need to make the trip to their campus. You can meet with one of their academic advisors right here at Schoolcraft and learn more about their process\, requirements\, and program offerings. \n\n\n\nAdvisors will be able to meet with students individually to discuss specific information about programs and transfer options. \n\n\n\nSimply sign in at the Advising office\, in the McDowell Center\, room 105. This walk-in advising service is available to any current Schoolcraft student. Students will be seen on a first-come first-seen basis. \n\n\n\nIf you have any questions\, call 734-462-4429.
URL:https://www.schoolcraft.edu/event/advising-with-eastern-michigan-university-2/2025-12-10/
CATEGORIES:University Visits
ATTACH;FMTTYPE=image/jpeg:https://www.schoolcraft.edu/wp-content/uploads/2025/02/emu.jpg
ORGANIZER;CN="Academic Advising":MAILTO:eadvise@schoolcraft.edu
END:VEVENT
BEGIN:VEVENT
DTSTART;TZID=UTC:20251210T120000
DTEND;TZID=UTC:20251210T130000
DTSTAMP:20260419T154015
CREATED:20251023T150823Z
LAST-MODIFIED:20251023T152833Z
UID:8150-1765368000-1765371600@www.schoolcraft.edu
SUMMARY:Noon Concert Series: Paul Keller Ensemble
DESCRIPTION:Seven piece Jazz ensemble plays Holiday favoritesVistatech Center\, Kehrl Auditorium \n\n\n\n\n\n\n\n\nJazz bassist\, composer\, arranger and bandleader Paul Keller has been a favorite with Detroit and Ann Arbor Jazz fans for years. His ensembles have covered a range of jazz styles\, with arrangements for groups ranging from trio to big band. For this performance of Holiday music\, the 7-piece Paul Keller Ensemble will be joined by vocalist Sarah D’Angelo. In addition to Keller\, instrumentalists include trumpeter Paul Finkbeiner\, saxophonist Keith Kaminski\, trombonist Terry Kimura\, pianist Ellen Rowe and drummer Sean Dobbins. \n\n\n\n\n\n\n\n\n\nClick to Download PDF
URL:https://www.schoolcraft.edu/event/noon-concert-series-paul-keller-ensemble/
CATEGORIES:Arts and Culture,Music
ATTACH;FMTTYPE=image/jpeg:https://www.schoolcraft.edu/wp-content/uploads/2025/10/noon-concert-series-25-26-thumb.jpg
ORGANIZER;CN="Music":MAILTO:music@schoolcraft.edu
END:VEVENT
BEGIN:VEVENT
DTSTART;TZID=UTC:20251211T090000
DTEND;TZID=UTC:20251211T113000
DTSTAMP:20260419T154015
CREATED:20250409T181650Z
LAST-MODIFIED:20260211T184031Z
UID:8115-1765443600-1765452600@www.schoolcraft.edu
SUMMARY:Federal Government Contracting 101 - Virtual
DESCRIPTION:Virtual  – No fee to attend\, but registration is required. \n\n\n\n\n\n\n\nAre you a business owner looking to navigate the federal marketplace? \n\n\n\nThe government buys almost every good or service imaginable. The steps to becoming a government contractor include understanding contractor responsibility\, identifying which agencies buy what you sell\, positioning your business to optimize your success when approaching government agencies and more. \n\n\n\nThis session provides you with an overview of: \n\n\n\n\nAPEX Accelerators Services\n\n\n\nSystem for Award Management (SAM) Registration & Validation Process\n\n\n\nSmall Business Program Certifications\n\n\n\nDoD Defense Priorities\n\n\n\nMarketing to federal agencies\n\n\n\nFinding federal contracting opportunities  \n\n\n\n\n\n\n\n\nPresenter: Procurement Counselor\, Schoolcraft APEX Accelerator \n\n\n\n\n\n\n\nRegister Now \n\n\n\n\n\n\n\nSchoolcraft APEX Accelerator Team 734-462-4438 or apex@schoolcraft.edu \n\n\n\nThis APEX Accelerator is funded in part through a cooperative agreement with the Department of Defense. Additionally\, the Schoolcraft College APEX Accelerator is funded by the Michigan Economic Development Corporation (MEDC) and Schoolcraft College.
URL:https://www.schoolcraft.edu/event/federal-government-contracting-101/2025-12-11/
CATEGORIES:Workforce & Economic Development
ATTACH;FMTTYPE=image/png:https://www.schoolcraft.edu/wp-content/uploads/2024/01/feature-gov-contracts.png
END:VEVENT
BEGIN:VEVENT
DTSTART;TZID=UTC:20251211T090000
DTEND;TZID=UTC:20251211T170000
DTSTAMP:20260419T154015
CREATED:20250828T193214Z
LAST-MODIFIED:20260123T160919Z
UID:7871-1765443600-1765472400@www.schoolcraft.edu
SUMMARY:Wayne State University: Mike Ilitch School of Business Advising
DESCRIPTION:Are you planning to transfer to Wayne State University: Mike Ilitch School of Business? \n\n\n\nNo need to make the trip to their campus. Students can meet with a Wayne State University: Mike Ilitch School of Business advisor in the Jeffress Center\, room 330\, or remotely. \n\n\n\nPlease contact 734-462-3450\, or email patricia.michno@wayne.edu to schedule an appointment.
URL:https://www.schoolcraft.edu/event/wayne-state-university-mike-ilitch-school-of-business-advising/2025-12-11/
CATEGORIES:University Visits
ATTACH;FMTTYPE=image/jpeg:https://www.schoolcraft.edu/wp-content/uploads/2024/08/wsu-mi-school-business.jpg
ORGANIZER;CN="Academic Advising":MAILTO:eadvise@schoolcraft.edu
END:VEVENT
BEGIN:VEVENT
DTSTART;TZID=UTC:20251211T100000
DTEND;TZID=UTC:20251211T120000
DTSTAMP:20260419T154015
CREATED:20250828T195650Z
LAST-MODIFIED:20250828T195650Z
UID:7909-1765447200-1765454400@www.schoolcraft.edu
SUMMARY:Advising with Madonna University
DESCRIPTION:Are you planning to transfer to Madonna University? \n\n\n\nNo need to make the trip to their campus. You can meet with one of their academic advisors right here at Schoolcraft and learn more about their process\, requirements\, and program offerings. \n\n\n\nAdvisors will be able to meet with students individually to discuss specific information about programs and transfer options. \n\n\n\nSimply sign in at the Advising office\, in the McDowell Center\, room 105. This walk-in advising service is available to any current Schoolcraft student. Students will be seen on a first-come first-seen basis. \n\n\n\nIf you have any questions\, call 734-462-4429.
URL:https://www.schoolcraft.edu/event/advising-with-madonna-university/2025-12-11/
CATEGORIES:University Visits
ATTACH;FMTTYPE=image/jpeg:https://www.schoolcraft.edu/wp-content/uploads/2025/08/madonna-university-thumb.jpg
END:VEVENT
BEGIN:VEVENT
DTSTART;TZID=UTC:20251211T103000
DTEND;TZID=UTC:20251211T123000
DTSTAMP:20260419T154015
CREATED:20240620T142053Z
LAST-MODIFIED:20240620T142053Z
UID:7588-1765449000-1765456200@www.schoolcraft.edu
SUMMARY:Marketing Your Business – In Person
DESCRIPTION:Does your marketing strategy target your greatest opportunities for increasing sales and achieving a competitive advantage? \n\n\n\nThere is much more to marketing than having a couple of social media accounts and an email newsletter. In this workshop we will discuss market analysis and research\, competitive analysis and position\, as well as product price\, placement\, promotion and finish up with strategy implementation. \n\n\n\nRegister with the MI-SBDC (Michigan Small Business Development Center) \n\n\n\n\nGo to https://michigansbdc.org/get-started/training-events/view/\n\n\n\nLocate specific class you wish to attend\n\n\n\nFollow Register prompt\n\n\n\n\n\n\n\n\n\n\n\n\nFree of Charge but Pre-Registration is Required
URL:https://www.schoolcraft.edu/event/marketing-your-business-in-person-4-2025-02-06/2025-12-11/
CATEGORIES:Workforce & Economic Development
ATTACH;FMTTYPE=image/png:https://www.schoolcraft.edu/wp-content/uploads/2021/10/marketing-magic.png
ORGANIZER;CN="Workforce &amp%3B Economic Development":MAILTO:bdc@schoolcraft.edu
END:VEVENT
BEGIN:VEVENT
DTSTART;TZID=UTC:20251211T103000
DTEND;TZID=UTC:20251211T123000
DTSTAMP:20260419T154015
CREATED:20250722T173450Z
LAST-MODIFIED:20250722T173450Z
UID:7678-1765449000-1765456200@www.schoolcraft.edu
SUMMARY:Marketing Your Business – In Person
DESCRIPTION:Does your marketing strategy target your greatest opportunities for increasing sales and achieving a competitive advantage? \n\n\n\nThere is much more to marketing than having a couple of social media accounts and an email newsletter. In this workshop we will discuss market analysis and research\, competitive analysis and position\, as well as product price\, placement\, promotion and finish up with strategy implementation. \n\n\n\nRegister with the MI-SBDC (Michigan Small Business Development Center) \n\n\n\nFree of Charge but Pre-Registration is RequiredBusiness Development CenterJC 123734-462-4438 \n\n\n\nGo to https://michigansbdc.org/get-started/training-events/view/ \n\n\n\nLocate specific class you wish to attend \n\n\n\nFollow Register prompt
URL:https://www.schoolcraft.edu/event/marketing-your-business-in-person/2025-12-11/
ATTACH;FMTTYPE=image/png:https://www.schoolcraft.edu/wp-content/uploads/2021/10/marketing-magic.png
END:VEVENT
BEGIN:VEVENT
DTSTART;TZID=UTC:20251211T130000
DTEND;TZID=UTC:20251211T160000
DTSTAMP:20260419T154015
CREATED:20250828T193831Z
LAST-MODIFIED:20250829T141931Z
UID:7884-1765458000-1765468800@www.schoolcraft.edu
SUMMARY:Advising with Wayne State University – General Advising
DESCRIPTION:Are you planning to transfer to Wayne State University? \n\n\n\nNo need to make the trip to their campus. You can meet with one of their academic advisors right here at Schoolcraft and learn more about their process\, requirements\, and program offerings. \n\n\n\nAdvisors will be able to meet with students individually to discuss specific information about programs and transfer options. \n\n\n\nSimply sign in at the Advising office\, in the McDowell Center\, room 105. This walk-in advising service is available to any current Schoolcraft student. Students will be seen on a first-come first-seen basis. \n\n\n\nIf you have any questions\, call 734-462-4429.
URL:https://www.schoolcraft.edu/event/advising-with-wayne-state-university-general-advising/2025-12-11/
CATEGORIES:University Visits
ATTACH;FMTTYPE=image/jpeg:https://www.schoolcraft.edu/wp-content/uploads/2025/01/wayne-state-university.jpg
ORGANIZER;CN="Academic Advising":MAILTO:eadvise@schoolcraft.edu
END:VEVENT
BEGIN:VEVENT
DTSTART;TZID=UTC:20251214T170000
DTEND;TZID=UTC:20251214T180000
DTSTAMP:20260419T154015
CREATED:20251207T174020Z
LAST-MODIFIED:20251207T174023Z
UID:8285-1765731600-1765735200@www.schoolcraft.edu
SUMMARY:Ford Motor Company Chorus with the Schoolcraft Collegiate Chorale
DESCRIPTION:Winter Concert\n\n\n\nSunday\, December 14\, 2025\n\n\n\n5:00 PM\n\n\n\nRosedale Gardens Presbyterian Church  \n\n\n\n9601 Hubbard St.\n\n\n\nLivonia\, Michigan 48150.\n\n\n\nFor ticket information\, contact Dr. Jonathan Drake at jdrake@schoolcraft.edu
URL:https://www.schoolcraft.edu/event/ford-motor-company-chorus-with-the-schoolcraft-collegiate-chorale/
CATEGORIES:Arts and Culture,Music
ATTACH;FMTTYPE=image/jpeg:https://www.schoolcraft.edu/wp-content/uploads/2025/12/sc-music-thumb.jpg
ORGANIZER;CN="Music":MAILTO:music@schoolcraft.edu
END:VEVENT
END:VCALENDAR