



BEGIN:VCALENDAR
VERSION:2.0
PRODID:-//Schoolcraft College - ECPv6.15.17.1//NONSGML v1.0//EN
CALSCALE:GREGORIAN
METHOD:PUBLISH
X-WR-CALNAME:Schoolcraft College
X-ORIGINAL-URL:https://www.schoolcraft.edu
X-WR-CALDESC:Events for Schoolcraft College
REFRESH-INTERVAL;VALUE=DURATION:PT1H
X-Robots-Tag:noindex
X-PUBLISHED-TTL:PT1H
BEGIN:VTIMEZONE
TZID:UTC
BEGIN:STANDARD
TZOFFSETFROM:+0000
TZOFFSETTO:+0000
TZNAME:UTC
DTSTART:20240101T000000
END:STANDARD
END:VTIMEZONE
BEGIN:VEVENT
DTSTART;TZID=UTC:20250825T080000
DTEND;TZID=UTC:20250825T180000
DTSTAMP:20260423T150258
CREATED:20250729T134258Z
LAST-MODIFIED:20250729T135244Z
UID:7689-1756108800-1756144800@www.schoolcraft.edu
SUMMARY:Welcome to Campus!
DESCRIPTION:Stop by a Welcome Station \n\n\n\nLocated in these buildings \n\n\n\n\nBiomedical Technology Center\n\n\n\nBradner Library\n\n\n\nForum Building\n\n\n\nHealth Sciences Center\n\n\n\nLiberal Arts Building\n\n\n\nAdmissions and Welcome Center(located in the McDowell Student Center)\n\n\n\n\nAsk questions\, get general information or pick up a campus map. \n\n\n\nEnjoy some candy and other assorted snacks!
URL:https://www.schoolcraft.edu/event/welcome-to-campus/2025-08-25/
ATTACH;FMTTYPE=image/jpeg:https://www.schoolcraft.edu/wp-content/uploads/2025/07/welcome-to-campus-thumbnail.jpg
END:VEVENT
BEGIN:VEVENT
DTSTART;TZID=UTC:20250826T080000
DTEND;TZID=UTC:20250826T180000
DTSTAMP:20260423T150259
CREATED:20250729T134258Z
LAST-MODIFIED:20250729T135246Z
UID:7693-1756195200-1756231200@www.schoolcraft.edu
SUMMARY:Welcome to Campus!
DESCRIPTION:Stop by a Welcome Station \n\n\n\nLocated in these buildings \n\n\n\n\nBiomedical Technology Center\n\n\n\nBradner Library\n\n\n\nForum Building\n\n\n\nHealth Sciences Center\n\n\n\nLiberal Arts Building\n\n\n\nAdmissions and Welcome Center(located in the McDowell Student Center)\n\n\n\n\nAsk questions\, get general information or pick up a campus map. \n\n\n\nEnjoy some candy and other assorted snacks!
URL:https://www.schoolcraft.edu/event/welcome-to-campus/2025-08-26/
ATTACH;FMTTYPE=image/jpeg:https://www.schoolcraft.edu/wp-content/uploads/2025/07/welcome-to-campus-thumbnail.jpg
END:VEVENT
BEGIN:VEVENT
DTSTART;TZID=UTC:20250826T180000
DTEND;TZID=UTC:20250826T200000
DTSTAMP:20260423T150259
CREATED:20250627T172159Z
LAST-MODIFIED:20250701T180004Z
UID:7565-1756231200-1756238400@www.schoolcraft.edu
SUMMARY:Magnetic Resonance Imaging Structured Education (MRI)
DESCRIPTION:August 26\, 2025 – December 16\, 2025 \n\n\n\nTuesdays\, 6:00- 8:00 pm online lectures \n\n\n\nOther projects/assignments will be online\, student-paced. \n\n\n\nObtain the necessary structured education to sit for the MRI post-associate’s certificate. This 16-week online course provides all the knowledge you need to pass the exam. Upon completion of the program and acquiring the ARRT required number of exams students are eligible to take the ARRT exam. \n\n\n\nThe Magnetic Resonance Imaging (MRI) program is designed for Radiologic Technologist (ARRT)\, Radiation Therapist (ARRT)\, or Nuclear Medicine Technologist (ARRT or NMTCB) \n\n\n\nRegister Now
URL:https://www.schoolcraft.edu/event/magnetic-resonance-imaging-structured-education-mri/
CATEGORIES:Workforce & Economic Development
ATTACH;FMTTYPE=image/jpeg:https://www.schoolcraft.edu/wp-content/uploads/2025/07/mri-2.jpg
ORGANIZER;CN="Workforce &amp%3B Economic Development":MAILTO:bdc@schoolcraft.edu
END:VEVENT
BEGIN:VEVENT
DTSTART;TZID=UTC:20250827T080000
DTEND;TZID=UTC:20250827T180000
DTSTAMP:20260423T150259
CREATED:20250617T154902Z
LAST-MODIFIED:20250618T163332Z
UID:7524-1756281600-1756317600@www.schoolcraft.edu
SUMMARY:Student Services Extended Hours
DESCRIPTION:Visit our Student Services during extended hours this summer! Services will be offered in the McDowell Student Center and by phone.  \n\n\n\nView our web page for department listings and hours. \n\n\n\nView Extended Hours
URL:https://www.schoolcraft.edu/event/extended-hours/2025-08-27/
ATTACH;FMTTYPE=image/png:https://www.schoolcraft.edu/wp-content/uploads/2025/06/extended-hours-2025-thumb.png
END:VEVENT
BEGIN:VEVENT
DTSTART;TZID=UTC:20250827T080000
DTEND;TZID=UTC:20250827T180000
DTSTAMP:20260423T150259
CREATED:20250729T134258Z
LAST-MODIFIED:20250729T135246Z
UID:7694-1756281600-1756317600@www.schoolcraft.edu
SUMMARY:Welcome to Campus!
DESCRIPTION:Stop by a Welcome Station \n\n\n\nLocated in these buildings \n\n\n\n\nBiomedical Technology Center\n\n\n\nBradner Library\n\n\n\nForum Building\n\n\n\nHealth Sciences Center\n\n\n\nLiberal Arts Building\n\n\n\nAdmissions and Welcome Center(located in the McDowell Student Center)\n\n\n\n\nAsk questions\, get general information or pick up a campus map. \n\n\n\nEnjoy some candy and other assorted snacks!
URL:https://www.schoolcraft.edu/event/welcome-to-campus/2025-08-27/
ATTACH;FMTTYPE=image/jpeg:https://www.schoolcraft.edu/wp-content/uploads/2025/07/welcome-to-campus-thumbnail.jpg
END:VEVENT
BEGIN:VEVENT
DTSTART;TZID=UTC:20250827T140000
DTEND;TZID=UTC:20250827T180000
DTSTAMP:20260423T150259
CREATED:20250716T000922Z
LAST-MODIFIED:20250716T001008Z
UID:7635-1756303200-1756317600@www.schoolcraft.edu
SUMMARY:Ozzy-Palooza
DESCRIPTION:Come celebrate the beginning of a new school year at the 3rd Annual Ozzy-Palooza on the greenspace between the Forum and Liberal Arts buildings. Enjoy music\, games\, a bounce house\, raffle prizes\, food\, tie-dying and more!
URL:https://www.schoolcraft.edu/event/ozzy-palooza-2/
CATEGORIES:Campus Life,Community
ATTACH;FMTTYPE=image/jpeg:https://www.schoolcraft.edu/wp-content/uploads/2025/07/ozzy-palooza-2025.jpg
END:VEVENT
END:VCALENDAR