



BEGIN:VCALENDAR
VERSION:2.0
PRODID:-//Schoolcraft College - ECPv6.15.17.1//NONSGML v1.0//EN
CALSCALE:GREGORIAN
METHOD:PUBLISH
X-WR-CALNAME:Schoolcraft College
X-ORIGINAL-URL:https://www.schoolcraft.edu
X-WR-CALDESC:Events for Schoolcraft College
REFRESH-INTERVAL;VALUE=DURATION:PT1H
X-Robots-Tag:noindex
X-PUBLISHED-TTL:PT1H
BEGIN:VTIMEZONE
TZID:UTC
BEGIN:STANDARD
TZOFFSETFROM:+0000
TZOFFSETTO:+0000
TZNAME:UTC
DTSTART:20240101T000000
END:STANDARD
END:VTIMEZONE
BEGIN:VEVENT
DTSTART;TZID=UTC:20250609T073000
DTEND;TZID=UTC:20250609T183000
DTSTAMP:20260422T004251
CREATED:20250519T141148Z
LAST-MODIFIED:20250625T173306Z
UID:7423-1749454200-1749493800@www.schoolcraft.edu
SUMMARY:Take some FREE Books\, DVD's and other Resources!
DESCRIPTION:SPRING 2025Monday\, May 5 – Friday\, June 27Bradner Library\, Room L-110 \n\n\n\n\n\n\n\nVisit the Bradner Library\, classroom L-110\, to take home a bag of free (no check out required) books\, DVDs or other resources. \n\n\n\nThe variety of offerings may change as new resources are added. Access to resources are subject to weekly room-schedule changes. Please call ahead 734-264-5316 for availability. \n\n\n\nThis event is open to public. \n\n\n\nBradner Library Hours (Livonia Location) \n\n\n\nDaySpring Semester HoursMonday7:30 a.m.– 6:30 p.m.Tuesday7:30 a.m.– 6:30 p.m.Wednesday7:30 a.m.– 6:30 p.m.Thursday7:30 a.m.– 6:30 p.m.Friday7:30 a.m.– 5:00 p.m.SaturdayClosedSundayClosed\n\n\n\nWe Hope to See You There! \n\n\n\n\n\n\n\n\n\n\n\n\n\n\n\n\n\n\n\nVisit the Bradner Library\, classroom L-110\, to take home a bag of free (no check out required) books\, DVDs or other resources.
URL:https://www.schoolcraft.edu/event/take-some-free-books-dvds-and-other-resources/2025-06-09/
CATEGORIES:Learning Support,LSS Library Resources
ATTACH;FMTTYPE=image/jpeg:https://www.schoolcraft.edu/wp-content/uploads/2025/05/sc-lss-free-books-thumb.jpg
ORGANIZER;CN="Learning Support Services":MAILTO:learningsupport@schoolcraft.edu
END:VEVENT
BEGIN:VEVENT
DTSTART;TZID=UTC:20250610T150000
DTEND;TZID=UTC:20250610T160000
DTSTAMP:20260422T004251
CREATED:20250508T150240Z
LAST-MODIFIED:20250508T150242Z
UID:7396-1749567600-1749571200@www.schoolcraft.edu
SUMMARY:FAFSA Workshop
DESCRIPTION:Need help completing your FAFSA application? Come to this workshop\, where financial aid representatives will be available to help you with any questions you have while filling out these applications. The workshop will take place in the McDowell Center Rm. 40 computer lab\, so you do not need to have your own computer. \n\n\n\nLocation: MC 40 \n\n\n\nRegistration is not required but highly encouraged. \n\n\n\nRegister Now \n\n\n\nBefore coming to the event\, please make an FSA ID at https://studentaid.gov/
URL:https://www.schoolcraft.edu/event/fafsa-workshop-2/
CATEGORIES:Financial Aid
ORGANIZER;CN="Financial Aid":MAILTO:finaid@schoolcraft.edu
END:VEVENT
BEGIN:VEVENT
DTSTART;TZID=UTC:20250612T080000
DTEND;TZID=UTC:20250612T170000
DTSTAMP:20260422T004251
CREATED:20250127T172102Z
LAST-MODIFIED:20250307T183831Z
UID:6709-1749715200-1749747600@www.schoolcraft.edu
SUMMARY:PPL Kids on Campus Registration
DESCRIPTION:Kids on Campus summer camp registration through Schoolcraft College’s Personal & Professional Learning department begins at 8:00am on Thursday\, 2/14/25 and goes through August 7. \n\n\n\nMany of our camps fill. Register early for high-demand camps and before and after care to secure your spot. \n\n\n\nRegistration can be done online\, in person\, or by mail. Learn about registration options. \n\n\n\nFor a full list of camps\, visit www.schoolcraft.edu/koc \n\n\n\nQuestions? Contact the PPL office at: (734) 462-4448 or ppl@schoolcraft.edu
URL:https://www.schoolcraft.edu/event/ppl-kids-on-campus-registration-begins-2-13/2025-06-12/
CATEGORIES:Community,Personal & Professional Learning
ATTACH;FMTTYPE=image/jpeg:https://www.schoolcraft.edu/wp-content/uploads/2024/01/20230626_PPL_Kids-on-Campus_Blast-off-Space-Camp_Grades-1-and-2_272-scaled.jpg
ORGANIZER;CN="Personal &#038%3B Professional Learning (PPL)":MAILTO:ppl@schoolcraft.edu
END:VEVENT
BEGIN:VEVENT
DTSTART;TZID=UTC:20250612T090000
DTEND;TZID=UTC:20250612T180000
DTSTAMP:20260422T004251
CREATED:20250609T163955Z
LAST-MODIFIED:20250828T195409Z
UID:7503-1749718800-1749751200@www.schoolcraft.edu
SUMMARY:Transfer Day at Madonna University
DESCRIPTION:We’re excited to invite your students to Transfer Day at Madonna University on Thursday\, June 12th — an event designed to make the transfer process simple and stress-free. Students can choose from three convenient options to connect with our Admissions Team\, either in person or virtually. \n\n\n\nStudents interested in the Accelerated Bachelor of Science in Nursing (ABSN) program should contact our Southfield Campus Admissions Team directly at 844-319-2107. \n\n\n\n\n\n\n\n\n\nMorning Grind | In-Person9:00 a.m. – 11:00 a.m \n\n\n\nStop by our office for coffee\, bagels\, and a one-on-one chat with an Admissions Officer. We’ll walk students through how their previous credits will transfer to Madonna. \n\n\n\n\n\nVirtual Lunch Hour | Online via Zoom12:00 p.m. – 1:00 p.m. \n\n\n\nJoin us for a brief presentation followed by open Q&A. Individual breakout rooms will be available for personalized discussions. \n\n\n\n\n\nLate Night Bites | In-Person4:30 p.m. – 6:00 p.m. \n\n\n\nVisit our office for pizza\, snacks\, and expert transfer guidance from our Admissions Team. \n\n\n\n\n\n\n\n\n\nTo attend this event please register below: \n\n\n\nRegistration
URL:https://www.schoolcraft.edu/event/transfer-day-at-madonna-university/
CATEGORIES:University Visits
ATTACH;FMTTYPE=image/jpeg:https://www.schoolcraft.edu/wp-content/uploads/2025/06/modonna-university-thumb.jpg
ORGANIZER;CN="Academic Advising":MAILTO:eadvise@schoolcraft.edu
END:VEVENT
BEGIN:VEVENT
DTSTART;TZID=UTC:20250612T130000
DTEND;TZID=UTC:20250612T160000
DTSTAMP:20260422T004251
CREATED:20250504T165530Z
LAST-MODIFIED:20250504T165530Z
UID:7350-1749733200-1749744000@www.schoolcraft.edu
SUMMARY:Advising with Wayne State University beginning May 8
DESCRIPTION:Are you planning to transfer to Wayne State University? \n\n\n\nNo need to make the trip to their campus. You can meet with one of their academic advisors right here at Schoolcraft and learn more about their process\, requirements\, and program offerings. \n\n\n\nAdvisors will be able to meet with students individually to discuss specific information about programs and transfer options. \n\n\n\nSimply sign in at the Advising office\, in the McDowell Center\, room 105. This walk-in advising service is available to any current Schoolcraft student. Students will be seen on a first-come first-seen basis. \n\n\n\nIf you have any questions\, call 734-462-4429.
URL:https://www.schoolcraft.edu/event/advising-with-wayne-state-university-beginning-may-8/2025-06-12/
CATEGORIES:University Visits
ATTACH;FMTTYPE=image/jpeg:https://www.schoolcraft.edu/wp-content/uploads/2025/01/wayne-state-university.jpg
ORGANIZER;CN="Academic Advising":MAILTO:eadvise@schoolcraft.edu
END:VEVENT
END:VCALENDAR