



BEGIN:VCALENDAR
VERSION:2.0
PRODID:-//Schoolcraft College - ECPv6.15.17.1//NONSGML v1.0//EN
CALSCALE:GREGORIAN
METHOD:PUBLISH
X-ORIGINAL-URL:https://www.schoolcraft.edu
X-WR-CALDESC:Events for Schoolcraft College
REFRESH-INTERVAL;VALUE=DURATION:PT1H
X-Robots-Tag:noindex
X-PUBLISHED-TTL:PT1H
BEGIN:VTIMEZONE
TZID:UTC
BEGIN:STANDARD
TZOFFSETFROM:+0000
TZOFFSETTO:+0000
TZNAME:UTC
DTSTART:20230101T000000
END:STANDARD
END:VTIMEZONE
BEGIN:VEVENT
DTSTART;TZID=UTC:20240521T100000
DTEND;TZID=UTC:20240521T130000
DTSTAMP:20260421T055628
CREATED:20240422T183622Z
LAST-MODIFIED:20250504T171528Z
UID:5878-1716285600-1716296400@www.schoolcraft.edu
SUMMARY:Advising with University of Michigan Dearborn
DESCRIPTION:Are you planning to transfer to University of Michigan Dearborn? \n\n\n\nNo need to make the trip to their campus. You can meet with one of their academic advisors right here at Schoolcraft and learn more about their process\, requirements\, and program offerings. \n\n\n\nAdvisors will be able to meet with students individually to discuss specific information about programs and transfer options. \n\n\n\nSimply sign in at the Advising office\, in the McDowell Center\, room 105. This walk-in advising service is available to any current Schoolcraft student. Students will be seen on a first-come first-seen basis. \n\n\n\nIf you have any questions call 734-462-4429.
URL:https://www.schoolcraft.edu/event/advising-with-university-of-michigan-dearborn-2024/2024-05-21/
CATEGORIES:University Visits
ATTACH;FMTTYPE=image/jpeg:https://www.schoolcraft.edu/wp-content/uploads/2025/01/um-dearborn.jpg
ORGANIZER;CN="Academic Advising":MAILTO:eadvise@schoolcraft.edu
END:VEVENT
BEGIN:VEVENT
DTSTART;TZID=UTC:20240521T150000
DTEND;TZID=UTC:20240521T160000
DTSTAMP:20260421T055628
CREATED:20240516T211804Z
LAST-MODIFIED:20240516T211806Z
UID:5942-1716303600-1716307200@www.schoolcraft.edu
SUMMARY:FAFSA Help Workshop
DESCRIPTION:For: all Schoolcraft College studentsLocation: McDowell Student Center \n\n\n\nWhat to Bring: \n\n\n\n\nSocial Security Number\n\n\n\nDriver’s License Number (if any)\n\n\n\nParent & Student 2022 Federal Income Tax Return\n\n\n\nAlien Registration or Permanent Resident Card (if you are not a U.S. Citizen)\n\n\n\n\n \n\n\n\nFSA ID Requirement: Before you attend\, please create your Federal Student Aid (FSA) ID for both the contributor and student so the FAFSA can besigned easily. This must be done three business days prior to your attendance.
URL:https://www.schoolcraft.edu/event/fafsa-help-workshop/2024-05-21/
LOCATION:Schoolcraft College\, 18600 Haggerty Road\, Livonia\, Michigan\, 48152
ORGANIZER;CN="Financial Aid":MAILTO:finaid@schoolcraft.edu
END:VEVENT
BEGIN:VEVENT
DTSTART;TZID=UTC:20240523T130000
DTEND;TZID=UTC:20240523T160000
DTSTAMP:20260421T055628
CREATED:20240422T181626Z
LAST-MODIFIED:20240422T182500Z
UID:5862-1716469200-1716480000@www.schoolcraft.edu
SUMMARY:Advising with Wayne State University
DESCRIPTION:Are you planning to transfer to Wayne State University? \n\n\n\nNo need to make the trip to their campus. You can meet with one of their academic advisors right here at Schoolcraft and learn more about their process\, requirements\, and program offerings. \n\n\n\nAdvisors will be able to meet with students individually to discuss specific information about programs and transfer options. \n\n\n\nSimply sign in at the Advising office\, in the McDowell Center\, room 105. This walk-in advising service is available to any current Schoolcraft student. Students will be seen on a first-come first-seen basis.
URL:https://www.schoolcraft.edu/event/advising-with-wayne-state-university-2024/2024-05-23/
CATEGORIES:University Visits
ORGANIZER;CN="Academic Advising":MAILTO:eadvise@schoolcraft.edu
END:VEVENT
END:VCALENDAR