



BEGIN:VCALENDAR
VERSION:2.0
PRODID:-//Schoolcraft College - ECPv6.15.17.1//NONSGML v1.0//EN
CALSCALE:GREGORIAN
METHOD:PUBLISH
X-ORIGINAL-URL:https://www.schoolcraft.edu
X-WR-CALDESC:Events for Schoolcraft College
REFRESH-INTERVAL;VALUE=DURATION:PT1H
X-Robots-Tag:noindex
X-PUBLISHED-TTL:PT1H
BEGIN:VTIMEZONE
TZID:UTC
BEGIN:STANDARD
TZOFFSETFROM:+0000
TZOFFSETTO:+0000
TZNAME:UTC
DTSTART:20230101T000000
END:STANDARD
END:VTIMEZONE
BEGIN:VEVENT
DTSTART;TZID=UTC:20240709T090000
DTEND;TZID=UTC:20240709T130000
DTSTAMP:20260421T214048
CREATED:20240422T183622Z
LAST-MODIFIED:20250504T171529Z
UID:5880-1720515600-1720530000@www.schoolcraft.edu
SUMMARY:Advising with University of Michigan Dearborn
DESCRIPTION:Are you planning to transfer to University of Michigan Dearborn? \n\n\n\nNo need to make the trip to their campus. You can meet with one of their academic advisors right here at Schoolcraft and learn more about their process\, requirements\, and program offerings. \n\n\n\nAdvisors will be able to meet with students individually to discuss specific information about programs and transfer options. \n\n\n\nSimply sign in at the Advising office\, in the McDowell Center\, room 105. This walk-in advising service is available to any current Schoolcraft student. Students will be seen on a first-come first-seen basis. \n\n\n\nIf you have any questions call 734-462-4429.
URL:https://www.schoolcraft.edu/event/advising-with-university-of-michigan-dearborn-2024/2024-07-09/
CATEGORIES:University Visits
ATTACH;FMTTYPE=image/jpeg:https://www.schoolcraft.edu/wp-content/uploads/2025/01/um-dearborn.jpg
ORGANIZER;CN="Academic Advising":MAILTO:eadvise@schoolcraft.edu
END:VEVENT
BEGIN:VEVENT
DTSTART;TZID=UTC:20240711T130000
DTEND;TZID=UTC:20240711T160000
DTSTAMP:20260421T214048
CREATED:20240422T181626Z
LAST-MODIFIED:20240422T182503Z
UID:5869-1720702800-1720713600@www.schoolcraft.edu
SUMMARY:Advising with Wayne State University
DESCRIPTION:Are you planning to transfer to Wayne State University? \n\n\n\nNo need to make the trip to their campus. You can meet with one of their academic advisors right here at Schoolcraft and learn more about their process\, requirements\, and program offerings. \n\n\n\nAdvisors will be able to meet with students individually to discuss specific information about programs and transfer options. \n\n\n\nSimply sign in at the Advising office\, in the McDowell Center\, room 105. This walk-in advising service is available to any current Schoolcraft student. Students will be seen on a first-come first-seen basis.
URL:https://www.schoolcraft.edu/event/advising-with-wayne-state-university-2024/2024-07-11/
CATEGORIES:University Visits
ORGANIZER;CN="Academic Advising":MAILTO:eadvise@schoolcraft.edu
END:VEVENT
BEGIN:VEVENT
DTSTART;TZID=UTC:20240712T083000
DTEND;TZID=UTC:20240712T093000
DTSTAMP:20260421T214048
CREATED:20240507T181033Z
LAST-MODIFIED:20240917T222934Z
UID:5931-1720773000-1720776600@www.schoolcraft.edu
SUMMARY:Coffee and Contracting
DESCRIPTION:Virtual – No fee\, registration is required. \n\n\n\nJoin our Schoolcraft College APEX Accelerator counselors for an opportunity to discuss government contracting\, procurement assistance and other relevant contracting topics. \n\n\n\nBring your questions and your coffee! \n\n\n\n\n\n\n\nSchoolcraft APEX Accelerator Team | 734-462-4438 or apex@schoolcraft.edu \n\n\n\nRegister Now \n\n\n\nThe APEX Accelerator is funded in part through a cooperative agreement with the Department of Defense. Additionally\, the Schoolcraft College APEX Accelerator is funded by the Michigan Economic Development Corporation (MEDC) and Schoolcraft College.
URL:https://www.schoolcraft.edu/event/coffee-and-contracting-4/2024-07-12/
CATEGORIES:PTAC,Workforce & Economic Development
ATTACH;FMTTYPE=image/png:https://www.schoolcraft.edu/wp-content/uploads/2024/05/coffee-contracting.png
END:VEVENT
BEGIN:VEVENT
DTSTART;TZID=UTC:20240718T130000
DTEND;TZID=UTC:20240718T160000
DTSTAMP:20260421T214048
CREATED:20240422T181626Z
LAST-MODIFIED:20240422T182504Z
UID:5870-1721307600-1721318400@www.schoolcraft.edu
SUMMARY:Advising with Wayne State University
DESCRIPTION:Are you planning to transfer to Wayne State University? \n\n\n\nNo need to make the trip to their campus. You can meet with one of their academic advisors right here at Schoolcraft and learn more about their process\, requirements\, and program offerings. \n\n\n\nAdvisors will be able to meet with students individually to discuss specific information about programs and transfer options. \n\n\n\nSimply sign in at the Advising office\, in the McDowell Center\, room 105. This walk-in advising service is available to any current Schoolcraft student. Students will be seen on a first-come first-seen basis.
URL:https://www.schoolcraft.edu/event/advising-with-wayne-state-university-2024/2024-07-18/
CATEGORIES:University Visits
ORGANIZER;CN="Academic Advising":MAILTO:eadvise@schoolcraft.edu
END:VEVENT
BEGIN:VEVENT
DTSTART;TZID=UTC:20240725T090000
DTEND;TZID=UTC:20240725T110000
DTSTAMP:20260421T214048
CREATED:20240607T184248Z
LAST-MODIFIED:20240927T155037Z
UID:6020-1721898000-1721905200@www.schoolcraft.edu
SUMMARY:State and Local Government Contracting 101
DESCRIPTION:In Person – No fee\, registration is required. \n\n\n\n \n\n\n\n\n\n\n\nJoin us for State and Local Government Contracting 101! \n\n\n\nIn this class you will gain valuable information on: \n\n\n\n\nBecoming government contract ready\n\n\n\nMarketing to state and local agencies\n\n\n\nBenefits of joining the Michigan Supplier Community (MiSC)\n\n\n\nState of Michigan SIGMA Vendor Self Service Registration\n\n\n\nDepartment of Transportation\, Management & Budget (DTMB) Vendor Opportunity Dashboard\n\n\n\nFinding state and local contract opportunities using the MITN Purchasing Group\n\n\n\n\nSchoolcraft APEX Accelerator Team 734-462-4438 or apex@schoolcraft.edu \n\n\n\nRegister Now \n\n\n\nThe APEX Accelerator is funded in part through a cooperative agreement with the Department of Defense. Additionally\, the Schoolcraft College APEX Accelerator is funded by the Michigan Economic Development Corporation (MEDC) and Schoolcraft College.
URL:https://www.schoolcraft.edu/event/state-and-local-government-contracting-101-5/2024-07-25/
CATEGORIES:PTAC
ATTACH;FMTTYPE=image/png:https://www.schoolcraft.edu/wp-content/uploads/2024/01/feature-suppliers.png
END:VEVENT
BEGIN:VEVENT
DTSTART;TZID=UTC:20240725T130000
DTEND;TZID=UTC:20240725T160000
DTSTAMP:20260421T214048
CREATED:20240422T181626Z
LAST-MODIFIED:20240422T182504Z
UID:5871-1721912400-1721923200@www.schoolcraft.edu
SUMMARY:Advising with Wayne State University
DESCRIPTION:Are you planning to transfer to Wayne State University? \n\n\n\nNo need to make the trip to their campus. You can meet with one of their academic advisors right here at Schoolcraft and learn more about their process\, requirements\, and program offerings. \n\n\n\nAdvisors will be able to meet with students individually to discuss specific information about programs and transfer options. \n\n\n\nSimply sign in at the Advising office\, in the McDowell Center\, room 105. This walk-in advising service is available to any current Schoolcraft student. Students will be seen on a first-come first-seen basis.
URL:https://www.schoolcraft.edu/event/advising-with-wayne-state-university-2024/2024-07-25/
CATEGORIES:University Visits
ORGANIZER;CN="Academic Advising":MAILTO:eadvise@schoolcraft.edu
END:VEVENT
BEGIN:VEVENT
DTSTART;TZID=UTC:20240731T130000
DTEND;TZID=UTC:20240731T170000
DTSTAMP:20260421T214048
CREATED:20240422T183622Z
LAST-MODIFIED:20250504T171529Z
UID:5881-1722430800-1722445200@www.schoolcraft.edu
SUMMARY:Advising with University of Michigan Dearborn
DESCRIPTION:Are you planning to transfer to University of Michigan Dearborn? \n\n\n\nNo need to make the trip to their campus. You can meet with one of their academic advisors right here at Schoolcraft and learn more about their process\, requirements\, and program offerings. \n\n\n\nAdvisors will be able to meet with students individually to discuss specific information about programs and transfer options. \n\n\n\nSimply sign in at the Advising office\, in the McDowell Center\, room 105. This walk-in advising service is available to any current Schoolcraft student. Students will be seen on a first-come first-seen basis. \n\n\n\nIf you have any questions call 734-462-4429.
URL:https://www.schoolcraft.edu/event/advising-with-university-of-michigan-dearborn-2024/2024-07-31/
CATEGORIES:University Visits
ATTACH;FMTTYPE=image/jpeg:https://www.schoolcraft.edu/wp-content/uploads/2025/01/um-dearborn.jpg
ORGANIZER;CN="Academic Advising":MAILTO:eadvise@schoolcraft.edu
END:VEVENT
END:VCALENDAR