



BEGIN:VCALENDAR
VERSION:2.0
PRODID:-//Schoolcraft College - ECPv6.15.17.1//NONSGML v1.0//EN
CALSCALE:GREGORIAN
METHOD:PUBLISH
X-ORIGINAL-URL:https://www.schoolcraft.edu
X-WR-CALDESC:Events for Schoolcraft College
REFRESH-INTERVAL;VALUE=DURATION:PT1H
X-Robots-Tag:noindex
X-PUBLISHED-TTL:PT1H
BEGIN:VTIMEZONE
TZID:UTC
BEGIN:STANDARD
TZOFFSETFROM:+0000
TZOFFSETTO:+0000
TZNAME:UTC
DTSTART:20250101T000000
END:STANDARD
END:VTIMEZONE
BEGIN:VEVENT
DTSTART;TZID=UTC:20260212T083000
DTEND;TZID=UTC:20260212T170000
DTSTAMP:20260420T073343
CREATED:20251105T191652Z
LAST-MODIFIED:20251105T192032Z
UID:8206-1770885000-1770915600@www.schoolcraft.edu
SUMMARY:Geometric Dimensioning and Tolerancing (GD &
DESCRIPTION:MEC 100 (in person) for 1 week \n\n\n\n\n\n\n\n\nThis course covers the GD&T system per ASME Y14.52009\, including why it reduces costs\, how to interpret the symbols\, and how to apply these tolerances correctly. Participants will learn the basic definitions and rules\, gauging the importance of datums\, the meaning of each tolerance\, and sample ways of gauging geometric tolerances. \n\n\n\nRegister Now
URL:https://www.schoolcraft.edu/event/geometric-dimensioning-and-tolerancing-gd/
CATEGORIES:Workforce & Economic Development
ATTACH;FMTTYPE=image/jpeg:https://www.schoolcraft.edu/wp-content/uploads/2025/11/gdt-thumb.jpg
END:VEVENT
BEGIN:VEVENT
DTSTART;TZID=UTC:20260212T090000
DTEND;TZID=UTC:20260212T113000
DTSTAMP:20260420T073343
CREATED:20250409T181650Z
LAST-MODIFIED:20260211T184032Z
UID:8353-1770886800-1770895800@www.schoolcraft.edu
SUMMARY:Federal Government Contracting 101 - Virtual
DESCRIPTION:Virtual  – No fee to attend\, but registration is required. \n\n\n\n\n\n\n\nAre you a business owner looking to navigate the federal marketplace? \n\n\n\nThe government buys almost every good or service imaginable. The steps to becoming a government contractor include understanding contractor responsibility\, identifying which agencies buy what you sell\, positioning your business to optimize your success when approaching government agencies and more. \n\n\n\nThis session provides you with an overview of: \n\n\n\n\nAPEX Accelerators Services\n\n\n\nSystem for Award Management (SAM) Registration & Validation Process\n\n\n\nSmall Business Program Certifications\n\n\n\nDoD Defense Priorities\n\n\n\nMarketing to federal agencies\n\n\n\nFinding federal contracting opportunities  \n\n\n\n\n\n\n\n\nPresenter: Procurement Counselor\, Schoolcraft APEX Accelerator \n\n\n\n\n\n\n\nRegister Now \n\n\n\n\n\n\n\nSchoolcraft APEX Accelerator Team 734-462-4438 or apex@schoolcraft.edu \n\n\n\nThis APEX Accelerator is funded in part through a cooperative agreement with the Department of Defense. Additionally\, the Schoolcraft College APEX Accelerator is funded by the Michigan Economic Development Corporation (MEDC) and Schoolcraft College.
URL:https://www.schoolcraft.edu/event/federal-government-contracting-101/2026-02-12/
CATEGORIES:Workforce & Economic Development
ATTACH;FMTTYPE=image/png:https://www.schoolcraft.edu/wp-content/uploads/2024/01/feature-gov-contracts.png
END:VEVENT
END:VCALENDAR