



BEGIN:VCALENDAR
VERSION:2.0
PRODID:-//Schoolcraft College - ECPv6.15.17.1//NONSGML v1.0//EN
CALSCALE:GREGORIAN
METHOD:PUBLISH
X-ORIGINAL-URL:https://www.schoolcraft.edu
X-WR-CALDESC:Events for Schoolcraft College
REFRESH-INTERVAL;VALUE=DURATION:PT1H
X-Robots-Tag:noindex
X-PUBLISHED-TTL:PT1H
BEGIN:VTIMEZONE
TZID:UTC
BEGIN:STANDARD
TZOFFSETFROM:+0000
TZOFFSETTO:+0000
TZNAME:UTC
DTSTART:20250101T000000
END:STANDARD
END:VTIMEZONE
BEGIN:VEVENT
DTSTART;TZID=UTC:20260210T100000
DTEND;TZID=UTC:20260210T130000
DTSTAMP:20260424T225054
CREATED:20251205T151925Z
LAST-MODIFIED:20260225T180033Z
UID:8388-1770717600-1770728400@www.schoolcraft.edu
SUMMARY:Advising with Central Michigan University
DESCRIPTION:Location: Tuesday\, January 27\, 2026 – 10AM–1PM\, Liberal ArtsTuesday\, February 10\, 2026 – 10AM–1PM\, Liberal ArtsThursday\, February 26\, 2026 – 10AM–1PM\, Liberal Arts – (Cancelled)Wednesday\, March 4\, 2025 – 10AM–1PM\, Liberal ArtsTuesday\, March 24\, 2026 – 10AM–1PM\, VistaTech (Henry’s)Wednesday\, April 1\, 2026 – 10AM–1PM\, Liberal Arts \n\n\n\n\n\n\n\n\nAre you planning to transfer to Central Michigan University? \n\n\n\nNo need to make the trip to their campus. You can meet with one of their academic advisors right here at Schoolcraft and learn more about their process\, requirements\, and program offerings. \n\n\n\nAdvisors will be able to meet with students individually to discuss specific information about programs and transfer options.
URL:https://www.schoolcraft.edu/event/advising-with-central-michigan-university/2026-02-10/
CATEGORIES:University Visits
ATTACH;FMTTYPE=image/jpeg:https://www.schoolcraft.edu/wp-content/uploads/2025/02/cmu.jpg
ORGANIZER;CN="Academic Advising":MAILTO:eadvise@schoolcraft.edu
END:VEVENT
BEGIN:VEVENT
DTSTART;TZID=UTC:20260212T090000
DTEND;TZID=UTC:20260212T120000
DTSTAMP:20260424T225054
CREATED:20260129T162125Z
LAST-MODIFIED:20260211T181558Z
UID:8531-1770886800-1770897600@www.schoolcraft.edu
SUMMARY:Advising with Eastern Michigan University
DESCRIPTION:Location: Health Sciences \n\n\n\nAre you planning to transfer to Eastern Michigan University? \n\n\n\nNo need to make the trip to their campus. You can meet with one of their academic advisors right here at Schoolcraft and learn more about their process\, requirements\, and program offerings. \n\n\n\nAdvisors will be able to meet with students individually to discuss specific information about programs and transfer options. 
URL:https://www.schoolcraft.edu/event/advising-with-eastern-michigan-university-3/
CATEGORIES:University Visits
ATTACH;FMTTYPE=image/jpeg:https://www.schoolcraft.edu/wp-content/uploads/2025/02/emu.jpg
ORGANIZER;CN="Academic Advising":MAILTO:eadvise@schoolcraft.edu
END:VEVENT
BEGIN:VEVENT
DTSTART;TZID=UTC:20260212T090000
DTEND;TZID=UTC:20260212T170000
DTSTAMP:20260424T225054
CREATED:20260123T160805Z
LAST-MODIFIED:20260123T161052Z
UID:8461-1770886800-1770915600@www.schoolcraft.edu
SUMMARY:Advising with Wayne State University: Mike Ilitch School of Business
DESCRIPTION:Location: JC-330 or Remote \n\n\n\n\n\n\n\n\n\n\nAre you planning to transfer to Wayne State University: Mike Ilitch School of Business? \n\n\n\nNo need to make the trip to their campus. You can meet with one of their academic advisors right here at Schoolcraft and learn more about their process\, requirements\, and program offerings. \n\n\n\nAdvisors will be able to meet with students individually to discuss specific information about programs and transfer options.
URL:https://www.schoolcraft.edu/event/advising-with-wayne-state-university-mike-ilitch-school-of-business/2026-02-12/
CATEGORIES:University Visits
ATTACH;FMTTYPE=image/jpeg:https://www.schoolcraft.edu/wp-content/uploads/2024/08/wsu-mi-school-business.jpg
ORGANIZER;CN="Academic Advising":MAILTO:eadvise@schoolcraft.edu
END:VEVENT
BEGIN:VEVENT
DTSTART;TZID=UTC:20260212T130000
DTEND;TZID=UTC:20260212T160000
DTSTAMP:20260424T225054
CREATED:20260127T192326Z
LAST-MODIFIED:20260127T192507Z
UID:8481-1770901200-1770912000@www.schoolcraft.edu
SUMMARY:Advising with Wayne State University: General Advising
DESCRIPTION:Location: McDowell MC-105 \n\n\n\n\n\n\n\n\nAre you planning to transfer to Wayne State University: General Advising? \n\n\n\nNo need to make the trip to their campus. You can meet with one of their academic advisors right here at Schoolcraft and learn more about their process\, requirements\, and program offerings. \n\n\n\nAdvisors will be able to meet with students individually to discuss specific information about programs and transfer options.
URL:https://www.schoolcraft.edu/event/advising-with-wayne-state-university-general-advising-2/2026-02-12/
CATEGORIES:University Visits
ATTACH;FMTTYPE=image/jpeg:https://www.schoolcraft.edu/wp-content/uploads/2025/01/wayne-state-university.jpg
ORGANIZER;CN="Academic Advising":MAILTO:eadvise@schoolcraft.edu
END:VEVENT
END:VCALENDAR