



BEGIN:VCALENDAR
VERSION:2.0
PRODID:-//Schoolcraft College - ECPv6.15.17.1//NONSGML v1.0//EN
CALSCALE:GREGORIAN
METHOD:PUBLISH
X-WR-CALNAME:Schoolcraft College
X-ORIGINAL-URL:https://www.schoolcraft.edu
X-WR-CALDESC:Events for Schoolcraft College
REFRESH-INTERVAL;VALUE=DURATION:PT1H
X-Robots-Tag:noindex
X-PUBLISHED-TTL:PT1H
BEGIN:VTIMEZONE
TZID:UTC
BEGIN:STANDARD
TZOFFSETFROM:+0000
TZOFFSETTO:+0000
TZNAME:UTC
DTSTART:20250101T000000
END:STANDARD
END:VTIMEZONE
BEGIN:VEVENT
DTSTART;TZID=UTC:20260203T100000
DTEND;TZID=UTC:20260203T140000
DTSTAMP:20260425T130425
CREATED:20251219T171048Z
LAST-MODIFIED:20251219T171120Z
UID:8330-1770112800-1770127200@www.schoolcraft.edu
SUMMARY:Advising with the University of Michigan
DESCRIPTION:Location: Liberal Arts \n\n\n\n\n\n\n\n\n\nAre you planning to transfer to the University of Michigan? \n\n\n\nNo need to make the trip to their campus. You can meet with one of their academic advisors right here at Schoolcraft and learn more about their process\, requirements\, and program offerings. \n\n\n\nAdvisors will be able to meet with students individually to discuss specific information about programs and transfer options.
URL:https://www.schoolcraft.edu/event/advising-with-the-university-of-michigan/2026-02-03/
CATEGORIES:University Visits
ATTACH;FMTTYPE=image/jpeg:https://www.schoolcraft.edu/wp-content/uploads/2024/12/u-of-m-thumb.jpg
ORGANIZER;CN="Academic Advising":MAILTO:eadvise@schoolcraft.edu
END:VEVENT
BEGIN:VEVENT
DTSTART;TZID=UTC:20260203T130000
DTEND;TZID=UTC:20260203T170000
DTSTAMP:20260425T130425
CREATED:20260123T160041Z
LAST-MODIFIED:20260123T160111Z
UID:8452-1770123600-1770138000@www.schoolcraft.edu
SUMMARY:Advising with University of Michigan Dearborn
DESCRIPTION:Location: McDowell MC-105 \n\n\n\n\n\n\n\n\n\n\nAre you planning to transfer to University of Michigan Dearborn? \n\n\n\nNo need to make the trip to their campus. You can meet with one of their academic advisors right here at Schoolcraft and learn more about their process\, requirements\, and program offerings. \n\n\n\nAdvisors will be able to meet with students individually to discuss specific information about programs and transfer options.
URL:https://www.schoolcraft.edu/event/advising-with-university-of-michigan-dearborn-2/2026-02-03/
CATEGORIES:University Visits
ATTACH;FMTTYPE=image/jpeg:https://www.schoolcraft.edu/wp-content/uploads/2025/01/um-dearborn.jpg
ORGANIZER;CN="Academic Advising":MAILTO:eadvise@schoolcraft.edu
END:VEVENT
END:VCALENDAR