



BEGIN:VCALENDAR
VERSION:2.0
PRODID:-//Schoolcraft College - ECPv6.15.17.1//NONSGML v1.0//EN
CALSCALE:GREGORIAN
METHOD:PUBLISH
X-ORIGINAL-URL:https://www.schoolcraft.edu
X-WR-CALDESC:Events for Schoolcraft College
REFRESH-INTERVAL;VALUE=DURATION:PT1H
X-Robots-Tag:noindex
X-PUBLISHED-TTL:PT1H
BEGIN:VTIMEZONE
TZID:UTC
BEGIN:STANDARD
TZOFFSETFROM:+0000
TZOFFSETTO:+0000
TZNAME:UTC
DTSTART:20250101T000000
END:STANDARD
END:VTIMEZONE
BEGIN:VEVENT
DTSTART;TZID=UTC:20260217T183000
DTEND;TZID=UTC:20260217T193000
DTSTAMP:20260421T134712
CREATED:20231218T211022Z
LAST-MODIFIED:20250930T201700Z
UID:5473-1771353000-1771356600@www.schoolcraft.edu
SUMMARY:KOC Open House
DESCRIPTION:Parents\, kids\, and teens\, this is a great opportunity to see all that Kids on Campus and Teens on Campus has to offer! Meet select class instructors and participate in hands-on activities. Ask questions and get information about the camps you want to take. Learn about our drop off and pick up procedure and get to know the campus. Staff will be available to help answer questions about the registration process. Open house meets in the Vistatech Building – Room 500.  The open house is free and open to the public! Learn more about Kids on Campus at www.schoolcraft.edu/koc \n\n\n\nLocation: Vistatech\, Room 500
URL:https://www.schoolcraft.edu/event/koc-open-house/
CATEGORIES:Personal & Professional Learning
ATTACH;FMTTYPE=image/jpeg:https://www.schoolcraft.edu/wp-content/uploads/2023/12/koc-open-house-2026.jpg
ORGANIZER;CN="Personal &#038%3B Professional Learning (PPL)":MAILTO:ppl@schoolcraft.edu
END:VEVENT
BEGIN:VEVENT
DTSTART;TZID=UTC:20260218T080000
DTEND;TZID=UTC:20260218T170000
DTSTAMP:20260421T134712
CREATED:20251001T170049Z
LAST-MODIFIED:20251001T170623Z
UID:8045-1771401600-1771434000@www.schoolcraft.edu
SUMMARY:Kids on Campus Registration Begins 2/18
DESCRIPTION:Kids on Campus summer camp registration through Schoolcraft College’s Personal & Professional Learning department begins at 8:00am on Wednesday\, 2/18/26 and goes through August 7. \n\n\n\nMany of our camps fill. Register early for high-demand camps and before and after care to secure your spot. \n\n\n\nRegistration can be done online\, in person\, or by mail. Learn about registration options. \n\n\n\nFor a full list of camps\, visit www.schoolcraft.edu/koc \n\n\n\nQuestions? Contact the PPL office at: (734) 462-4448 or ppl@schoolcraft.edu
URL:https://www.schoolcraft.edu/event/kids-on-campus-registration-begins-2-18/2026-02-18/
CATEGORIES:Personal & Professional Learning
ATTACH;FMTTYPE=image/jpeg:https://www.schoolcraft.edu/wp-content/uploads/2023/12/koc-2026.jpg
ORGANIZER;CN="Personal &#038%3B Professional Learning (PPL)":MAILTO:ppl@schoolcraft.edu
END:VEVENT
END:VCALENDAR