



BEGIN:VCALENDAR
VERSION:2.0
PRODID:-//Schoolcraft College - ECPv6.15.17.1//NONSGML v1.0//EN
CALSCALE:GREGORIAN
METHOD:PUBLISH
X-WR-CALNAME:Schoolcraft College
X-ORIGINAL-URL:https://www.schoolcraft.edu
X-WR-CALDESC:Events for Schoolcraft College
REFRESH-INTERVAL;VALUE=DURATION:PT1H
X-Robots-Tag:noindex
X-PUBLISHED-TTL:PT1H
BEGIN:VTIMEZONE
TZID:UTC
BEGIN:STANDARD
TZOFFSETFROM:+0000
TZOFFSETTO:+0000
TZNAME:UTC
DTSTART:20230101T000000
END:STANDARD
END:VTIMEZONE
BEGIN:VEVENT
DTSTART;TZID=UTC:20250609T073000
DTEND;TZID=UTC:20250609T183000
DTSTAMP:20260423T005153
CREATED:20250519T141148Z
LAST-MODIFIED:20250625T173306Z
UID:7423-1749454200-1749493800@www.schoolcraft.edu
SUMMARY:Take some FREE Books\, DVD's and other Resources!
DESCRIPTION:SPRING 2025Monday\, May 5 – Friday\, June 27Bradner Library\, Room L-110 \n\n\n\n\n\n\n\nVisit the Bradner Library\, classroom L-110\, to take home a bag of free (no check out required) books\, DVDs or other resources. \n\n\n\nThe variety of offerings may change as new resources are added. Access to resources are subject to weekly room-schedule changes. Please call ahead 734-264-5316 for availability. \n\n\n\nThis event is open to public. \n\n\n\nBradner Library Hours (Livonia Location) \n\n\n\nDaySpring Semester HoursMonday7:30 a.m.– 6:30 p.m.Tuesday7:30 a.m.– 6:30 p.m.Wednesday7:30 a.m.– 6:30 p.m.Thursday7:30 a.m.– 6:30 p.m.Friday7:30 a.m.– 5:00 p.m.SaturdayClosedSundayClosed\n\n\n\nWe Hope to See You There! \n\n\n\n\n\n\n\n\n\n\n\n\n\n\n\n\n\n\n\nVisit the Bradner Library\, classroom L-110\, to take home a bag of free (no check out required) books\, DVDs or other resources.
URL:https://www.schoolcraft.edu/event/take-some-free-books-dvds-and-other-resources/2025-06-09/
CATEGORIES:Learning Support,LSS Library Resources
ATTACH;FMTTYPE=image/jpeg:https://www.schoolcraft.edu/wp-content/uploads/2025/05/sc-lss-free-books-thumb.jpg
ORGANIZER;CN="Learning Support Services":MAILTO:learningsupport@schoolcraft.edu
END:VEVENT
BEGIN:VEVENT
DTSTART;TZID=UTC:20250602T073000
DTEND;TZID=UTC:20250602T183000
DTSTAMP:20260423T005153
CREATED:20250519T141148Z
LAST-MODIFIED:20250625T173306Z
UID:7422-1748849400-1748889000@www.schoolcraft.edu
SUMMARY:Take some FREE Books\, DVD's and other Resources!
DESCRIPTION:SPRING 2025Monday\, May 5 – Friday\, June 27Bradner Library\, Room L-110 \n\n\n\n\n\n\n\nVisit the Bradner Library\, classroom L-110\, to take home a bag of free (no check out required) books\, DVDs or other resources. \n\n\n\nThe variety of offerings may change as new resources are added. Access to resources are subject to weekly room-schedule changes. Please call ahead 734-264-5316 for availability. \n\n\n\nThis event is open to public. \n\n\n\nBradner Library Hours (Livonia Location) \n\n\n\nDaySpring Semester HoursMonday7:30 a.m.– 6:30 p.m.Tuesday7:30 a.m.– 6:30 p.m.Wednesday7:30 a.m.– 6:30 p.m.Thursday7:30 a.m.– 6:30 p.m.Friday7:30 a.m.– 5:00 p.m.SaturdayClosedSundayClosed\n\n\n\nWe Hope to See You There! \n\n\n\n\n\n\n\n\n\n\n\n\n\n\n\n\n\n\n\nVisit the Bradner Library\, classroom L-110\, to take home a bag of free (no check out required) books\, DVDs or other resources.
URL:https://www.schoolcraft.edu/event/take-some-free-books-dvds-and-other-resources/2025-06-02/
CATEGORIES:Learning Support,LSS Library Resources
ATTACH;FMTTYPE=image/jpeg:https://www.schoolcraft.edu/wp-content/uploads/2025/05/sc-lss-free-books-thumb.jpg
ORGANIZER;CN="Learning Support Services":MAILTO:learningsupport@schoolcraft.edu
END:VEVENT
BEGIN:VEVENT
DTSTART;TZID=UTC:20250526T073000
DTEND;TZID=UTC:20250526T183000
DTSTAMP:20260423T005153
CREATED:20250519T141148Z
LAST-MODIFIED:20250625T173306Z
UID:7421-1748244600-1748284200@www.schoolcraft.edu
SUMMARY:Take some FREE Books\, DVD's and other Resources!
DESCRIPTION:SPRING 2025Monday\, May 5 – Friday\, June 27Bradner Library\, Room L-110 \n\n\n\n\n\n\n\nVisit the Bradner Library\, classroom L-110\, to take home a bag of free (no check out required) books\, DVDs or other resources. \n\n\n\nThe variety of offerings may change as new resources are added. Access to resources are subject to weekly room-schedule changes. Please call ahead 734-264-5316 for availability. \n\n\n\nThis event is open to public. \n\n\n\nBradner Library Hours (Livonia Location) \n\n\n\nDaySpring Semester HoursMonday7:30 a.m.– 6:30 p.m.Tuesday7:30 a.m.– 6:30 p.m.Wednesday7:30 a.m.– 6:30 p.m.Thursday7:30 a.m.– 6:30 p.m.Friday7:30 a.m.– 5:00 p.m.SaturdayClosedSundayClosed\n\n\n\nWe Hope to See You There! \n\n\n\n\n\n\n\n\n\n\n\n\n\n\n\n\n\n\n\nVisit the Bradner Library\, classroom L-110\, to take home a bag of free (no check out required) books\, DVDs or other resources.
URL:https://www.schoolcraft.edu/event/take-some-free-books-dvds-and-other-resources/2025-05-26/
CATEGORIES:Learning Support,LSS Library Resources
ATTACH;FMTTYPE=image/jpeg:https://www.schoolcraft.edu/wp-content/uploads/2025/05/sc-lss-free-books-thumb.jpg
ORGANIZER;CN="Learning Support Services":MAILTO:learningsupport@schoolcraft.edu
END:VEVENT
BEGIN:VEVENT
DTSTART;TZID=UTC:20250519T073000
DTEND;TZID=UTC:20250519T183000
DTSTAMP:20260423T005153
CREATED:20250519T141148Z
LAST-MODIFIED:20250625T173305Z
UID:7420-1747639800-1747679400@www.schoolcraft.edu
SUMMARY:Take some FREE Books\, DVD's and other Resources!
DESCRIPTION:SPRING 2025Monday\, May 5 – Friday\, June 27Bradner Library\, Room L-110 \n\n\n\n\n\n\n\nVisit the Bradner Library\, classroom L-110\, to take home a bag of free (no check out required) books\, DVDs or other resources. \n\n\n\nThe variety of offerings may change as new resources are added. Access to resources are subject to weekly room-schedule changes. Please call ahead 734-264-5316 for availability. \n\n\n\nThis event is open to public. \n\n\n\nBradner Library Hours (Livonia Location) \n\n\n\nDaySpring Semester HoursMonday7:30 a.m.– 6:30 p.m.Tuesday7:30 a.m.– 6:30 p.m.Wednesday7:30 a.m.– 6:30 p.m.Thursday7:30 a.m.– 6:30 p.m.Friday7:30 a.m.– 5:00 p.m.SaturdayClosedSundayClosed\n\n\n\nWe Hope to See You There! \n\n\n\n\n\n\n\n\n\n\n\n\n\n\n\n\n\n\n\nVisit the Bradner Library\, classroom L-110\, to take home a bag of free (no check out required) books\, DVDs or other resources.
URL:https://www.schoolcraft.edu/event/take-some-free-books-dvds-and-other-resources/2025-05-19/
CATEGORIES:Learning Support,LSS Library Resources
ATTACH;FMTTYPE=image/jpeg:https://www.schoolcraft.edu/wp-content/uploads/2025/05/sc-lss-free-books-thumb.jpg
ORGANIZER;CN="Learning Support Services":MAILTO:learningsupport@schoolcraft.edu
END:VEVENT
BEGIN:VEVENT
DTSTART;TZID=UTC:20250512T073000
DTEND;TZID=UTC:20250512T183000
DTSTAMP:20260423T005153
CREATED:20250519T141148Z
LAST-MODIFIED:20250625T173305Z
UID:7419-1747035000-1747074600@www.schoolcraft.edu
SUMMARY:Take some FREE Books\, DVD's and other Resources!
DESCRIPTION:SPRING 2025Monday\, May 5 – Friday\, June 27Bradner Library\, Room L-110 \n\n\n\n\n\n\n\nVisit the Bradner Library\, classroom L-110\, to take home a bag of free (no check out required) books\, DVDs or other resources. \n\n\n\nThe variety of offerings may change as new resources are added. Access to resources are subject to weekly room-schedule changes. Please call ahead 734-264-5316 for availability. \n\n\n\nThis event is open to public. \n\n\n\nBradner Library Hours (Livonia Location) \n\n\n\nDaySpring Semester HoursMonday7:30 a.m.– 6:30 p.m.Tuesday7:30 a.m.– 6:30 p.m.Wednesday7:30 a.m.– 6:30 p.m.Thursday7:30 a.m.– 6:30 p.m.Friday7:30 a.m.– 5:00 p.m.SaturdayClosedSundayClosed\n\n\n\nWe Hope to See You There! \n\n\n\n\n\n\n\n\n\n\n\n\n\n\n\n\n\n\n\nVisit the Bradner Library\, classroom L-110\, to take home a bag of free (no check out required) books\, DVDs or other resources.
URL:https://www.schoolcraft.edu/event/take-some-free-books-dvds-and-other-resources/2025-05-12/
CATEGORIES:Learning Support,LSS Library Resources
ATTACH;FMTTYPE=image/jpeg:https://www.schoolcraft.edu/wp-content/uploads/2025/05/sc-lss-free-books-thumb.jpg
ORGANIZER;CN="Learning Support Services":MAILTO:learningsupport@schoolcraft.edu
END:VEVENT
BEGIN:VEVENT
DTSTART;TZID=UTC:20250505T073000
DTEND;TZID=UTC:20250505T183000
DTSTAMP:20260423T005153
CREATED:20250519T141148Z
LAST-MODIFIED:20250625T173303Z
UID:7418-1746430200-1746469800@www.schoolcraft.edu
SUMMARY:Take some FREE Books\, DVD's and other Resources!
DESCRIPTION:SPRING 2025Monday\, May 5 – Friday\, June 27Bradner Library\, Room L-110 \n\n\n\n\n\n\n\nVisit the Bradner Library\, classroom L-110\, to take home a bag of free (no check out required) books\, DVDs or other resources. \n\n\n\nThe variety of offerings may change as new resources are added. Access to resources are subject to weekly room-schedule changes. Please call ahead 734-264-5316 for availability. \n\n\n\nThis event is open to public. \n\n\n\nBradner Library Hours (Livonia Location) \n\n\n\nDaySpring Semester HoursMonday7:30 a.m.– 6:30 p.m.Tuesday7:30 a.m.– 6:30 p.m.Wednesday7:30 a.m.– 6:30 p.m.Thursday7:30 a.m.– 6:30 p.m.Friday7:30 a.m.– 5:00 p.m.SaturdayClosedSundayClosed\n\n\n\nWe Hope to See You There! \n\n\n\n\n\n\n\n\n\n\n\n\n\n\n\n\n\n\n\nVisit the Bradner Library\, classroom L-110\, to take home a bag of free (no check out required) books\, DVDs or other resources.
URL:https://www.schoolcraft.edu/event/take-some-free-books-dvds-and-other-resources/2025-05-05/
CATEGORIES:Learning Support,LSS Library Resources
ATTACH;FMTTYPE=image/jpeg:https://www.schoolcraft.edu/wp-content/uploads/2025/05/sc-lss-free-books-thumb.jpg
ORGANIZER;CN="Learning Support Services":MAILTO:learningsupport@schoolcraft.edu
END:VEVENT
BEGIN:VEVENT
DTSTART;TZID=UTC:20241018T140000
DTEND;TZID=UTC:20241018T150000
DTSTAMP:20260423T005153
CREATED:20241009T145329Z
LAST-MODIFIED:20241009T145329Z
UID:6419-1729260000-1729263600@www.schoolcraft.edu
SUMMARY:The Jack Kent Cooke Foundation: Undergraduate Transfer Scholarship Information Session
DESCRIPTION:Join Schoolcraft College’s Chief Student Services Officer\, Dr. Laurie Kattuah-Snyder\, in an exciting information session via Microsoft Teams to learn about the highly selective Jack Kent Cooke Undergraduate Transfer Scholarship.  \n\n\n\nThis scholarship offers top community college students up to $55\,000 per year for two to three years to complete their bachelor’s degree at a four-year institution. Scholars receive financial support\, personalized advising\, help with college planning\, and access to a vibrant community of scholars\, plus opportunities for internships\, conference and travel stipend\, and graduate scholarships.  \n\n\n\nDon’t miss out on this chance to pursue your academic dreams! \n\n\n\nInformation Sessions\n\n\n\nOctober 16: \n\n\n\n\n 9:00 – 10:00 a.m. via Microsoft Teams at teams.microsoft.com \n\n\n\nMeeting ID: 229 252 976 620 \n\n\n\nPasscode: JGoQi2\n\n\n\n\n \n\n\n\nOctober 18: \n\n\n\n\n2:00 – 3:00 p.m. via Microsoft Teams at teams.microsoft.com  \n\n\n\nMeeting ID: 242 385 536 481 \n\n\n\nPasscode: NDS9tR
URL:https://www.schoolcraft.edu/event/the-jack-kent-cooke-foundation-undergraduate-transfer-scholarship-information-session/2024-10-18/
CATEGORIES:Campus Life,Career Mentorship & Placement,Financial Aid,Learning Support
END:VEVENT
BEGIN:VEVENT
DTSTART;TZID=UTC:20241016T090000
DTEND;TZID=UTC:20241016T100000
DTSTAMP:20260423T005153
CREATED:20241009T145324Z
LAST-MODIFIED:20241009T145328Z
UID:6418-1729069200-1729072800@www.schoolcraft.edu
SUMMARY:The Jack Kent Cooke Foundation: Undergraduate Transfer Scholarship Information Session
DESCRIPTION:Join Schoolcraft College’s Chief Student Services Officer\, Dr. Laurie Kattuah-Snyder\, in an exciting information session via Microsoft Teams to learn about the highly selective Jack Kent Cooke Undergraduate Transfer Scholarship.  \n\n\n\nThis scholarship offers top community college students up to $55\,000 per year for two to three years to complete their bachelor’s degree at a four-year institution. Scholars receive financial support\, personalized advising\, help with college planning\, and access to a vibrant community of scholars\, plus opportunities for internships\, conference and travel stipend\, and graduate scholarships.  \n\n\n\nDon’t miss out on this chance to pursue your academic dreams! \n\n\n\nInformation Sessions\n\n\n\nOctober 16: \n\n\n\n\n 9:00 – 10:00 a.m. via Microsoft Teams at teams.microsoft.com \n\n\n\nMeeting ID: 229 252 976 620 \n\n\n\nPasscode: JGoQi2\n\n\n\n\n \n\n\n\nOctober 18: \n\n\n\n\n2:00 – 3:00 p.m. via Microsoft Teams at teams.microsoft.com  \n\n\n\nMeeting ID: 242 385 536 481 \n\n\n\nPasscode: NDS9tR
URL:https://www.schoolcraft.edu/event/the-jack-kent-cooke-foundation-undergraduate-transfer-scholarship-information-session/2024-10-16/
CATEGORIES:Campus Life,Career Mentorship & Placement,Financial Aid,Learning Support
END:VEVENT
END:VCALENDAR