



BEGIN:VCALENDAR
VERSION:2.0
PRODID:-//Schoolcraft College - ECPv6.15.17.1//NONSGML v1.0//EN
CALSCALE:GREGORIAN
METHOD:PUBLISH
X-ORIGINAL-URL:https://www.schoolcraft.edu
X-WR-CALDESC:Events for Schoolcraft College
REFRESH-INTERVAL;VALUE=DURATION:PT1H
X-Robots-Tag:noindex
X-PUBLISHED-TTL:PT1H
BEGIN:VTIMEZONE
TZID:UTC
BEGIN:STANDARD
TZOFFSETFROM:+0000
TZOFFSETTO:+0000
TZNAME:UTC
DTSTART:20250101T000000
END:STANDARD
END:VTIMEZONE
BEGIN:VEVENT
DTSTART;TZID=UTC:20260127T100000
DTEND;TZID=UTC:20260127T140000
DTSTAMP:20260423T005841
CREATED:20260120T153915Z
LAST-MODIFIED:20260120T155103Z
UID:8379-1769508000-1769522400@www.schoolcraft.edu
SUMMARY:Winter School Daze
DESCRIPTION:Location: Lower Waterman \n\n\n\n\n\n\n\n\nWinter School Daze is a two-day campus event taking place in Lower Waterman. Students are encouraged to stop by during event hours for more information. \n\n\n\nAdditional details will be shared closer to the event.
URL:https://www.schoolcraft.edu/event/winter-school-daze/2026-01-27/
CATEGORIES:Hinkle Student Resource Center
ATTACH;FMTTYPE=image/jpeg:https://www.schoolcraft.edu/wp-content/uploads/2025/08/sc-thumb.jpg
END:VEVENT
BEGIN:VEVENT
DTSTART;TZID=UTC:20260128T100000
DTEND;TZID=UTC:20260128T140000
DTSTAMP:20260423T005841
CREATED:20260120T153915Z
LAST-MODIFIED:20260120T155104Z
UID:8381-1769594400-1769608800@www.schoolcraft.edu
SUMMARY:Winter School Daze
DESCRIPTION:Location: Lower Waterman \n\n\n\n\n\n\n\n\nWinter School Daze is a two-day campus event taking place in Lower Waterman. Students are encouraged to stop by during event hours for more information. \n\n\n\nAdditional details will be shared closer to the event.
URL:https://www.schoolcraft.edu/event/winter-school-daze/2026-01-28/
CATEGORIES:Hinkle Student Resource Center
ATTACH;FMTTYPE=image/jpeg:https://www.schoolcraft.edu/wp-content/uploads/2025/08/sc-thumb.jpg
END:VEVENT
END:VCALENDAR