



BEGIN:VCALENDAR
VERSION:2.0
PRODID:-//Schoolcraft College - ECPv6.15.17.1//NONSGML v1.0//EN
CALSCALE:GREGORIAN
METHOD:PUBLISH
X-ORIGINAL-URL:https://www.schoolcraft.edu
X-WR-CALDESC:Events for Schoolcraft College
REFRESH-INTERVAL;VALUE=DURATION:PT1H
X-Robots-Tag:noindex
X-PUBLISHED-TTL:PT1H
BEGIN:VTIMEZONE
TZID:UTC
BEGIN:STANDARD
TZOFFSETFROM:+0000
TZOFFSETTO:+0000
TZNAME:UTC
DTSTART:20250101T000000
END:STANDARD
END:VTIMEZONE
BEGIN:VEVENT
DTSTART;TZID=UTC:20260325T160000
DTEND;TZID=UTC:20260325T180000
DTSTAMP:20260419T170110
CREATED:20251117T200501Z
LAST-MODIFIED:20260312T170302Z
UID:8240-1774454400-1774461600@www.schoolcraft.edu
SUMMARY:Michigan Reconnect Workshop
DESCRIPTION:Location: Livonia Campus – McDowell Student Center \n\n\n\nEvent Info & Registration \n\n\n\nPre-registration is required\, and space is limited.
URL:https://www.schoolcraft.edu/event/michigan-reconnect-workshop-2/
CATEGORIES:Financial Aid,Student Services
ATTACH;FMTTYPE=image/jpeg:https://www.schoolcraft.edu/wp-content/uploads/2025/11/SC186779-600w.jpg
ORGANIZER;CN="Admissions":MAILTO:admissions@schoolcraft.edu
END:VEVENT
END:VCALENDAR