



BEGIN:VCALENDAR
VERSION:2.0
PRODID:-//Schoolcraft College - ECPv6.15.17.1//NONSGML v1.0//EN
CALSCALE:GREGORIAN
METHOD:PUBLISH
X-ORIGINAL-URL:https://www.schoolcraft.edu
X-WR-CALDESC:Events for Schoolcraft College
REFRESH-INTERVAL;VALUE=DURATION:PT1H
X-Robots-Tag:noindex
X-PUBLISHED-TTL:PT1H
BEGIN:VTIMEZONE
TZID:UTC
BEGIN:STANDARD
TZOFFSETFROM:+0000
TZOFFSETTO:+0000
TZNAME:UTC
DTSTART:20240101T000000
END:STANDARD
END:VTIMEZONE
BEGIN:VEVENT
DTSTART;TZID=UTC:20251024T173000
DTEND;TZID=UTC:20251024T201500
DTSTAMP:20260425T165256
CREATED:20250929T143319Z
LAST-MODIFIED:20250929T143322Z
UID:8031-1761327000-1761336900@www.schoolcraft.edu
SUMMARY:2025 Halloween Spooktacular
DESCRIPTION:Location: TrinityElite Sports Center \n\n\n\nJoin us for a FREE\, family friendly celebration filled with trick-or-treating\, bounce houses\, costume contests\, and frightfully fun activities! Don’t miss the chance to snap photos with Ozzy the Ocelot and friends! \n\n\n\nWhile admission is free\, donations supporting youth programs at Schoolcraft College are welcome. \n\n\n\nRegistration is required! Reserve your entry time now: 5:30\, 6:00\, 6:30\, or 7:00 PM. (Please plan to arrive no more than 15 minutes before your scheduled entry\, and bring either a digital or printed copy of your emailed receipt for check-in.) \n\n\n\nAll children under 18 must be accompanied by an adult. \n\n\n\nRegister Now
URL:https://www.schoolcraft.edu/event/2025-halloween-spooktacular/
CATEGORIES:Campus Life,Community
ATTACH;FMTTYPE=image/png:https://www.schoolcraft.edu/wp-content/uploads/2025/09/Spooktacular-Cover.png
END:VEVENT
END:VCALENDAR