



BEGIN:VCALENDAR
VERSION:2.0
PRODID:-//Schoolcraft College - ECPv6.15.17.1//NONSGML v1.0//EN
CALSCALE:GREGORIAN
METHOD:PUBLISH
X-WR-CALNAME:Schoolcraft College
X-ORIGINAL-URL:https://www.schoolcraft.edu
X-WR-CALDESC:Events for Schoolcraft College
REFRESH-INTERVAL;VALUE=DURATION:PT1H
X-Robots-Tag:noindex
X-PUBLISHED-TTL:PT1H
BEGIN:VTIMEZONE
TZID:UTC
BEGIN:STANDARD
TZOFFSETFROM:+0000
TZOFFSETTO:+0000
TZNAME:UTC
DTSTART:20250101T000000
END:STANDARD
END:VTIMEZONE
BEGIN:VEVENT
DTSTART;TZID=UTC:20260305T130000
DTEND;TZID=UTC:20260305T150000
DTSTAMP:20260425T113210
CREATED:20250219T211106Z
LAST-MODIFIED:20260122T155802Z
UID:8429-1772715600-1772722800@www.schoolcraft.edu
SUMMARY:Cultural Coffee Connection
DESCRIPTION:Location: Bradner Library\, Room 110 \n\n\n\n\n\n\n\nStudents\, faculty\, staff\, and community members are invited to attend our upcoming events. Join us for coffee\, tea\, and snacks. Enjoy an educational presentation at the beginning of each event and informal conversation with peers from various cultures around the world. For every event you attend\, you will be entered into a drawing for prizes at the end of the semester.
URL:https://www.schoolcraft.edu/event/cultural-coffee-connection-2/2026-03-05/
CATEGORIES:Arts and Culture,Campus Life,CEL,Community,International Institute,Student Activities
ATTACH;FMTTYPE=image/jpeg:https://www.schoolcraft.edu/wp-content/uploads/2026/01/CCC-W26-thumb-800x600-1.jpg
END:VEVENT
BEGIN:VEVENT
DTSTART;TZID=UTC:20260318T090000
DTEND;TZID=UTC:20260318T130000
DTSTAMP:20260425T113210
CREATED:20260127T195136Z
LAST-MODIFIED:20260127T195155Z
UID:8512-1773824400-1773838800@www.schoolcraft.edu
SUMMARY:Advising with Eastern Michigan University
DESCRIPTION:Location: McDowell MC-105 \n\n\n\n\n\n\n\n\n\n\nAre you planning to transfer to Eastern Michigan University? \n\n\n\nNo need to make the trip to their campus. You can meet with one of their academic advisors right here at Schoolcraft and learn more about their process\, requirements\, and program offerings. \n\n\n\nAdvisors will be able to meet with students individually to discuss specific information about programs and transfer options.
URL:https://www.schoolcraft.edu/event/advising-with-eastern-michigan-university/2026-03-18/
CATEGORIES:Campus Life
ATTACH;FMTTYPE=image/jpeg:https://www.schoolcraft.edu/wp-content/uploads/2025/02/emu.jpg
ORGANIZER;CN="Academic Advising":MAILTO:eadvise@schoolcraft.edu
END:VEVENT
BEGIN:VEVENT
DTSTART;TZID=UTC:20260401T100000
DTEND;TZID=UTC:20260401T120000
DTSTAMP:20260425T113210
CREATED:20250219T211106Z
LAST-MODIFIED:20260122T155803Z
UID:8430-1775037600-1775044800@www.schoolcraft.edu
SUMMARY:Cultural Coffee Connection
DESCRIPTION:Location: Bradner Library\, Room 110 \n\n\n\n\n\n\n\nStudents\, faculty\, staff\, and community members are invited to attend our upcoming events. Join us for coffee\, tea\, and snacks. Enjoy an educational presentation at the beginning of each event and informal conversation with peers from various cultures around the world. For every event you attend\, you will be entered into a drawing for prizes at the end of the semester.
URL:https://www.schoolcraft.edu/event/cultural-coffee-connection-2/2026-04-01/
CATEGORIES:Arts and Culture,Campus Life,CEL,Community,International Institute,Student Activities
ATTACH;FMTTYPE=image/jpeg:https://www.schoolcraft.edu/wp-content/uploads/2026/01/CCC-W26-thumb-800x600-1.jpg
END:VEVENT
BEGIN:VEVENT
DTSTART;TZID=UTC:20260407T110000
DTEND;TZID=UTC:20260407T130000
DTSTAMP:20260425T113210
CREATED:20250818T232737Z
LAST-MODIFIED:20250818T232737Z
UID:8426-1775559600-1775566800@www.schoolcraft.edu
SUMMARY:Snack and Study
DESCRIPTION:Drop-In 11 a.m. to 1 p.m.Bradner Library 110: \n\n\n\n\n\n\n\n\n\nJoin Learning Support Services and the Bradner Library for some free snacks while you study!  \n\n\n\nDrop in\, do your homework\, meet friends for a study group\, or chat with one of our Academic Success Coaches.  \n\n\n\nFood available while supplies last; first come\, first served. \n\n\n\nQuestions? Email: LearningSupport@schoolcraft.edu
URL:https://www.schoolcraft.edu/event/snack-and-study-2/2026-04-07/
CATEGORIES:Campus Life,Learning Support
ATTACH;FMTTYPE=image/jpeg:https://www.schoolcraft.edu/wp-content/uploads/2025/08/LSS-Snack-and-Study-Fall-thumbnail.jpg
ORGANIZER;CN="Learning Support Services":MAILTO:learningsupport@schoolcraft.edu
END:VEVENT
BEGIN:VEVENT
DTSTART;TZID=UTC:20260408T090000
DTEND;TZID=UTC:20260408T130000
DTSTAMP:20260425T113210
CREATED:20260127T195136Z
LAST-MODIFIED:20260127T195156Z
UID:8513-1775638800-1775653200@www.schoolcraft.edu
SUMMARY:Advising with Eastern Michigan University
DESCRIPTION:Location: McDowell MC-105 \n\n\n\n\n\n\n\n\n\n\nAre you planning to transfer to Eastern Michigan University? \n\n\n\nNo need to make the trip to their campus. You can meet with one of their academic advisors right here at Schoolcraft and learn more about their process\, requirements\, and program offerings. \n\n\n\nAdvisors will be able to meet with students individually to discuss specific information about programs and transfer options.
URL:https://www.schoolcraft.edu/event/advising-with-eastern-michigan-university/2026-04-08/
CATEGORIES:Campus Life
ATTACH;FMTTYPE=image/jpeg:https://www.schoolcraft.edu/wp-content/uploads/2025/02/emu.jpg
ORGANIZER;CN="Academic Advising":MAILTO:eadvise@schoolcraft.edu
END:VEVENT
BEGIN:VEVENT
DTSTART;TZID=UTC:20260408T160000
DTEND;TZID=UTC:20260408T180000
DTSTAMP:20260425T113210
CREATED:20250820T144829Z
LAST-MODIFIED:20260122T152448Z
UID:7757-1775664000-1775671200@www.schoolcraft.edu
SUMMARY:Skilled Trades Job Fair
DESCRIPTION:Location: MEC 105  \n\n\n\n\n\n\n\n\nJob seekers: connect directly with skilled trades and manufacturing employers for available positions. \n\n\n\nHosted by: Career Mentorship and Placement\, Manufacturing and Engineering Center\, Workforce & Economic Development
URL:https://www.schoolcraft.edu/event/skilled-trades-job-fair/
CATEGORIES:Campus Life,Career Compass,Career Mentorship & Placement
ATTACH;FMTTYPE=image/jpeg:https://www.schoolcraft.edu/wp-content/uploads/2025/08/sc-thumb.jpg
END:VEVENT
BEGIN:VEVENT
DTSTART;TZID=UTC:20260421T170000
DTEND;TZID=UTC:20260421T190000
DTSTAMP:20260425T113210
CREATED:20260122T151800Z
LAST-MODIFIED:20260122T152323Z
UID:8416-1776790800-1776798000@www.schoolcraft.edu
SUMMARY:Education Job Fair 
DESCRIPTION:Location: VT 460 \n\n\n\n\n\n\n\n\nJob seekers: connect directly with educational institutions seeking teachers and administrative support in schools. \n\n\n\nHosted by: Career Mentorship and Placement\, Education\, Occupational Programs.
URL:https://www.schoolcraft.edu/event/education-job-fair/
CATEGORIES:Campus Life,Career Compass,Career Mentorship & Placement
ATTACH;FMTTYPE=image/jpeg:https://www.schoolcraft.edu/wp-content/uploads/2025/08/sc-thumb.jpg
END:VEVENT
BEGIN:VEVENT
DTSTART;TZID=UTC:20260422T090000
DTEND;TZID=UTC:20260422T150000
DTSTAMP:20260425T113210
CREATED:20260406T175527Z
LAST-MODIFIED:20260406T180125Z
UID:9089-1776848400-1776870000@www.schoolcraft.edu
SUMMARY:Grad Fair
DESCRIPTION:Location: Bookstore \n\n\n\n\n\n\n\n\n\n\nGraduating? Stop by the Book Store during the Grad Fair to purchase your cap and gown\, as well as tickets for Schoolcraft College’s 61st Annual Commencement Ceremony!  \n\n\n\nLearn More
URL:https://www.schoolcraft.edu/event/grad-fair-2026/2026-04-22/
CATEGORIES:Campus Life
ATTACH;FMTTYPE=image/jpeg:https://www.schoolcraft.edu/wp-content/uploads/2026/04/grad-fair-2026-thumbnail.jpg
END:VEVENT
BEGIN:VEVENT
DTSTART;TZID=UTC:20260422T090000
DTEND;TZID=UTC:20260422T130000
DTSTAMP:20260425T113210
CREATED:20260127T195136Z
LAST-MODIFIED:20260127T195156Z
UID:8514-1776848400-1776862800@www.schoolcraft.edu
SUMMARY:Advising with Eastern Michigan University
DESCRIPTION:Location: McDowell MC-105 \n\n\n\n\n\n\n\n\n\n\nAre you planning to transfer to Eastern Michigan University? \n\n\n\nNo need to make the trip to their campus. You can meet with one of their academic advisors right here at Schoolcraft and learn more about their process\, requirements\, and program offerings. \n\n\n\nAdvisors will be able to meet with students individually to discuss specific information about programs and transfer options.
URL:https://www.schoolcraft.edu/event/advising-with-eastern-michigan-university/2026-04-22/
CATEGORIES:Campus Life
ATTACH;FMTTYPE=image/jpeg:https://www.schoolcraft.edu/wp-content/uploads/2025/02/emu.jpg
ORGANIZER;CN="Academic Advising":MAILTO:eadvise@schoolcraft.edu
END:VEVENT
BEGIN:VEVENT
DTSTART;TZID=UTC:20260423T120000
DTEND;TZID=UTC:20260423T180000
DTSTAMP:20260425T113210
CREATED:20260406T175527Z
LAST-MODIFIED:20260406T180126Z
UID:9094-1776945600-1776967200@www.schoolcraft.edu
SUMMARY:Grad Fair
DESCRIPTION:Location: Bookstore \n\n\n\n\n\n\n\n\n\n\nGraduating? Stop by the Book Store during the Grad Fair to purchase your cap and gown\, as well as tickets for Schoolcraft College’s 61st Annual Commencement Ceremony!  \n\n\n\nLearn More
URL:https://www.schoolcraft.edu/event/grad-fair-2026/2026-04-23/
CATEGORIES:Campus Life
ATTACH;FMTTYPE=image/jpeg:https://www.schoolcraft.edu/wp-content/uploads/2026/04/grad-fair-2026-thumbnail.jpg
END:VEVENT
END:VCALENDAR