



BEGIN:VCALENDAR
VERSION:2.0
PRODID:-//Schoolcraft College - ECPv6.15.17.1//NONSGML v1.0//EN
CALSCALE:GREGORIAN
METHOD:PUBLISH
X-ORIGINAL-URL:https://www.schoolcraft.edu
X-WR-CALDESC:Events for Schoolcraft College
REFRESH-INTERVAL;VALUE=DURATION:PT1H
X-Robots-Tag:noindex
X-PUBLISHED-TTL:PT1H
BEGIN:VTIMEZONE
TZID:UTC
BEGIN:STANDARD
TZOFFSETFROM:+0000
TZOFFSETTO:+0000
TZNAME:UTC
DTSTART:20240101T000000
END:STANDARD
END:VTIMEZONE
BEGIN:VEVENT
DTSTART;TZID=UTC:20251005T120000
DTEND;TZID=UTC:20251005T170000
DTSTAMP:20260425T032605
CREATED:20250909T171330Z
LAST-MODIFIED:20250909T171636Z
UID:7957-1759665600-1759683600@www.schoolcraft.edu
SUMMARY:Athletic Dept. Tailgate Party
DESCRIPTION:Location:\n\n\n\nMain Outdoor Soccer Field (SF1) \n\n\n\n\n\n\n\nCost:\n\n\n\n$20 (If registered by Sept. 26)$25 (After Sept. 26)$15 (Kids ages 6-12)FREE (Kids ages 5-and-under)\n\n\n\n\n\n\n\nMore Details:\n\n\n\n\nTickets include Hospitality Tent access\, BBQ lunch and admission to both the Schoolcraft Men’s & Women’s Soccer games\n\n\n\nAll paid tickets receive a Schoolcraft t-shirt and special Schoolcraft swag item\n\n\n\nFirst 50 registrants get a Schoolcraft scarf!\n\n\n\n\n \n\n\n\n\n\n\n\n\n\nRegister Now
URL:https://www.schoolcraft.edu/event/athletic-dept-tailgate-party/
CATEGORIES:Campus Life
ATTACH;FMTTYPE=image/jpeg:https://www.schoolcraft.edu/wp-content/uploads/2025/09/tailgate-party-thumb.jpg
END:VEVENT
END:VCALENDAR