



BEGIN:VCALENDAR
VERSION:2.0
PRODID:-//Schoolcraft College - ECPv6.15.17.1//NONSGML v1.0//EN
CALSCALE:GREGORIAN
METHOD:PUBLISH
X-ORIGINAL-URL:https://www.schoolcraft.edu
X-WR-CALDESC:Events for Schoolcraft College
REFRESH-INTERVAL;VALUE=DURATION:PT1H
X-Robots-Tag:noindex
X-PUBLISHED-TTL:PT1H
BEGIN:VTIMEZONE
TZID:UTC
BEGIN:STANDARD
TZOFFSETFROM:+0000
TZOFFSETTO:+0000
TZNAME:UTC
DTSTART:20240101T000000
END:STANDARD
END:VTIMEZONE
BEGIN:VEVENT
DTSTART;TZID=UTC:20251005T120000
DTEND;TZID=UTC:20251005T170000
DTSTAMP:20260425T015433
CREATED:20250909T171330Z
LAST-MODIFIED:20250909T171636Z
UID:7957-1759665600-1759683600@www.schoolcraft.edu
SUMMARY:Athletic Dept. Tailgate Party
DESCRIPTION:Location:\n\n\n\nMain Outdoor Soccer Field (SF1) \n\n\n\n\n\n\n\nCost:\n\n\n\n$20 (If registered by Sept. 26)$25 (After Sept. 26)$15 (Kids ages 6-12)FREE (Kids ages 5-and-under)\n\n\n\n\n\n\n\nMore Details:\n\n\n\n\nTickets include Hospitality Tent access\, BBQ lunch and admission to both the Schoolcraft Men’s & Women’s Soccer games\n\n\n\nAll paid tickets receive a Schoolcraft t-shirt and special Schoolcraft swag item\n\n\n\nFirst 50 registrants get a Schoolcraft scarf!\n\n\n\n\n \n\n\n\n\n\n\n\n\n\nRegister Now
URL:https://www.schoolcraft.edu/event/athletic-dept-tailgate-party/
CATEGORIES:Campus Life
ATTACH;FMTTYPE=image/jpeg:https://www.schoolcraft.edu/wp-content/uploads/2025/09/tailgate-party-thumb.jpg
END:VEVENT
BEGIN:VEVENT
DTSTART;TZID=UTC:20251007T091500
DTEND;TZID=UTC:20251007T101500
DTSTAMP:20260425T015433
CREATED:20250819T192625Z
LAST-MODIFIED:20250827T171752Z
UID:7742-1759828500-1759832100@www.schoolcraft.edu
SUMMARY:Career Resources Informational Session
DESCRIPTION:Date:October 7\, 2025Time:9:15am – 10:15amLocation:Library\, L105Event:Career Resources Informational SessionDescription:Learn more about the Career Mentorship and Placement office and the services provided to students in collaboration with the Bradner Library.Office:Career Mentorship and Placement office & Library
URL:https://www.schoolcraft.edu/event/career-resources-informational-session/
CATEGORIES:Campus Life,Career Compass,Career Mentorship & Placement
ATTACH;FMTTYPE=image/jpeg:https://www.schoolcraft.edu/wp-content/uploads/2025/08/sc-thumb.jpg
END:VEVENT
BEGIN:VEVENT
DTSTART;TZID=UTC:20251008T133000
DTEND;TZID=UTC:20251008T143000
DTSTAMP:20260425T015433
CREATED:20250819T192907Z
LAST-MODIFIED:20250819T193006Z
UID:7743-1759930200-1759933800@www.schoolcraft.edu
SUMMARY:CareerSpring Informal Session
DESCRIPTION:Date:October 8th\, 2025Time:1:30pm – 2:30pmLocation:Zoom linkEvent:CareerSpring Informational SessionDescription:CareerSpring is a free tool available to qualifying students that facilitates mentorship and placement.Office:Career Mentorship and Placement office
URL:https://www.schoolcraft.edu/event/careerspring-informal-session/
CATEGORIES:Campus Life,Career Compass,Career Mentorship & Placement
ATTACH;FMTTYPE=image/jpeg:https://www.schoolcraft.edu/wp-content/uploads/2025/08/sc-thumb.jpg
ORGANIZER;CN="Career Mentorship and Placement office":MAILTO:careeradvantage@schoolcraft.edu
END:VEVENT
BEGIN:VEVENT
DTSTART;TZID=UTC:20251015T113000
DTEND;TZID=UTC:20251015T130000
DTSTAMP:20260425T015433
CREATED:20250819T193210Z
LAST-MODIFIED:20250819T193212Z
UID:7744-1760527800-1760533200@www.schoolcraft.edu
SUMMARY:Culture\, Civility\, and Career Success
DESCRIPTION:Date:October 15th\, 2025Time:11:30am – 1:00pmLocation:Kehrl AuditoriumEvent:Culture\, Civility\, and Career SuccessDescription:This workshop contains a panel of professionals that discuss the importance of cultivating interpersonal civility for long-term career success.Office:Career Mentorship and Placement office\, Business Club\, Student Activities Office
URL:https://www.schoolcraft.edu/event/culture-civility-and-career-success/
CATEGORIES:Campus Life,Career Compass,Career Mentorship & Placement
ATTACH;FMTTYPE=image/jpeg:https://www.schoolcraft.edu/wp-content/uploads/2025/08/sc-thumb.jpg
END:VEVENT
BEGIN:VEVENT
DTSTART;TZID=UTC:20251024T173000
DTEND;TZID=UTC:20251024T201500
DTSTAMP:20260425T015433
CREATED:20250929T143319Z
LAST-MODIFIED:20250929T143322Z
UID:8031-1761327000-1761336900@www.schoolcraft.edu
SUMMARY:2025 Halloween Spooktacular
DESCRIPTION:Location: TrinityElite Sports Center \n\n\n\nJoin us for a FREE\, family friendly celebration filled with trick-or-treating\, bounce houses\, costume contests\, and frightfully fun activities! Don’t miss the chance to snap photos with Ozzy the Ocelot and friends! \n\n\n\nWhile admission is free\, donations supporting youth programs at Schoolcraft College are welcome. \n\n\n\nRegistration is required! Reserve your entry time now: 5:30\, 6:00\, 6:30\, or 7:00 PM. (Please plan to arrive no more than 15 minutes before your scheduled entry\, and bring either a digital or printed copy of your emailed receipt for check-in.) \n\n\n\nAll children under 18 must be accompanied by an adult. \n\n\n\nRegister Now
URL:https://www.schoolcraft.edu/event/2025-halloween-spooktacular/
CATEGORIES:Campus Life,Community
ATTACH;FMTTYPE=image/png:https://www.schoolcraft.edu/wp-content/uploads/2025/09/Spooktacular-Cover.png
END:VEVENT
END:VCALENDAR