



BEGIN:VCALENDAR
VERSION:2.0
PRODID:-//Schoolcraft College - ECPv6.15.17.1//NONSGML v1.0//EN
CALSCALE:GREGORIAN
METHOD:PUBLISH
X-ORIGINAL-URL:https://www.schoolcraft.edu
X-WR-CALDESC:Events for Schoolcraft College
REFRESH-INTERVAL;VALUE=DURATION:PT1H
X-Robots-Tag:noindex
X-PUBLISHED-TTL:PT1H
BEGIN:VTIMEZONE
TZID:UTC
BEGIN:STANDARD
TZOFFSETFROM:+0000
TZOFFSETTO:+0000
TZNAME:UTC
DTSTART:20250101T000000
END:STANDARD
END:VTIMEZONE
BEGIN:VEVENT
DTSTART;TZID=UTC:20260401T120000
DTEND;TZID=UTC:20260401T130000
DTSTAMP:20260421T035202
CREATED:20251023T172828Z
LAST-MODIFIED:20260311T132346Z
UID:8157-1775044800-1775048400@www.schoolcraft.edu
SUMMARY:Noon Concert Series: KonGruENT  with Dr. Kenneth Gill 
DESCRIPTION:Kenneth Gill\, trombonistVistatech Center\, Kehrl Auditorium \n\n\n\n\n\n\n\n\nKongruent’s Dr. Kenneth Gill is a gifted trombonist\, composer\, educator\, clinician\, and advocate for the arts. Born and raised in Detroit\, Gill earned a Bachelor of Music in Education from Howard University\, a Master of Music from Kent State University\, and a Doctor of Musical Arts in Jazz and Contemporary Improvisation from the University of Michigan. As an in-demand trombonist\, he has recorded and performed with a variety of artists and ensembles. In 2019\, he released an LP titled The Good News. \n\n\n\n\n\n\n\n\n\nClick to Download PDF
URL:https://www.schoolcraft.edu/event/kongruent-with-dr-kenneth-gill/
CATEGORIES:Arts and Culture,Music
ATTACH;FMTTYPE=image/jpeg:https://www.schoolcraft.edu/wp-content/uploads/2025/10/noon-concert-series-25-26-thumb.jpg
END:VEVENT
END:VCALENDAR