



BEGIN:VCALENDAR
VERSION:2.0
PRODID:-//Schoolcraft College - ECPv6.15.17.1//NONSGML v1.0//EN
CALSCALE:GREGORIAN
METHOD:PUBLISH
X-ORIGINAL-URL:https://www.schoolcraft.edu
X-WR-CALDESC:Events for Schoolcraft College
REFRESH-INTERVAL;VALUE=DURATION:PT1H
X-Robots-Tag:noindex
X-PUBLISHED-TTL:PT1H
BEGIN:VTIMEZONE
TZID:UTC
BEGIN:STANDARD
TZOFFSETFROM:+0000
TZOFFSETTO:+0000
TZNAME:UTC
DTSTART:20240101T000000
END:STANDARD
END:VTIMEZONE
BEGIN:VEVENT
DTSTART;TZID=UTC:20251215T193000
DTEND;TZID=UTC:20251215T213000
DTSTAMP:20260421T084441
CREATED:20251031T165527Z
LAST-MODIFIED:20251103T160113Z
UID:8180-1765827000-1765834200@www.schoolcraft.edu
SUMMARY:Winter Wonders Jazz Concert
DESCRIPTION:The Schoolcraft Jazz Studies Program under the direction of Dr. Riccardo Selva presents a concert of Jazz featuring the talented instrumentalists and vocalists of The Jazz Ensemble and The Jazz Improvisation Combo. \n\n\n\nThe repertoire for both large and small jazz groups will consist of traditional\, contemporary\, and holiday jazz arrangements. \n\n\n\n\n\n\n\n\nAdmission is free. Made possible by a grant from the Schoolcraft College Foundation. Donations will be gratefully accepted at the door and will be used to fund student scholarships and the Jazz Program. \n\n\n\n\n\n\n\n\nFor More Information:\n\n\n\n\n\nDr. Riccardo Selva847-721-7299rselva@schoolcraft.edu \n\n\n\n\n\nSchoolcraft College Music Department734-462-4403or visit schoolcraft.edu/music
URL:https://www.schoolcraft.edu/event/winter-wonders-jazz-concert-2025/
CATEGORIES:Arts and Culture,Music
ATTACH;FMTTYPE=image/jpeg:https://www.schoolcraft.edu/wp-content/uploads/2025/10/sc-wwc-2025.jpg
ORGANIZER;CN="Music":MAILTO:music@schoolcraft.edu
END:VEVENT
BEGIN:VEVENT
DTSTART;TZID=UTC:20251215T193000
DTEND;TZID=UTC:20251215T203000
DTSTAMP:20260421T084441
CREATED:20251207T174130Z
LAST-MODIFIED:20251207T174133Z
UID:8286-1765827000-1765830600@www.schoolcraft.edu
SUMMARY:Schoolcraft College Jazz Program
DESCRIPTION:Winter Wonders Concert\n\n\n\nMonday\, December 15\, 2025\n\n\n\n7:30 PM\n\n\n\nVistatech Center\, DiPonio Room
URL:https://www.schoolcraft.edu/event/schoolcraft-college-jazz-program/
CATEGORIES:Arts and Culture,Music
ATTACH;FMTTYPE=image/jpeg:https://www.schoolcraft.edu/wp-content/uploads/2025/12/sc-music-thumb.jpg
ORGANIZER;CN="Music":MAILTO:music@schoolcraft.edu
END:VEVENT
END:VCALENDAR