



BEGIN:VCALENDAR
VERSION:2.0
PRODID:-//Schoolcraft College - ECPv6.15.17.1//NONSGML v1.0//EN
CALSCALE:GREGORIAN
METHOD:PUBLISH
X-WR-CALNAME:Schoolcraft College
X-ORIGINAL-URL:https://www.schoolcraft.edu
X-WR-CALDESC:Events for Schoolcraft College
REFRESH-INTERVAL;VALUE=DURATION:PT1H
X-Robots-Tag:noindex
X-PUBLISHED-TTL:PT1H
BEGIN:VTIMEZONE
TZID:UTC
BEGIN:STANDARD
TZOFFSETFROM:+0000
TZOFFSETTO:+0000
TZNAME:UTC
DTSTART:20250101T000000
END:STANDARD
END:VTIMEZONE
BEGIN:VEVENT
DTSTART;TZID=UTC:20260216T100000
DTEND;TZID=UTC:20260216T170000
DTSTAMP:20260424T214829
CREATED:20260212T195713Z
LAST-MODIFIED:20260212T200036Z
UID:8579-1771236000-1771261200@www.schoolcraft.edu
SUMMARY:SC Mosaic Arts Exhibition
DESCRIPTION:SC Mosaic Arts ExhibitionFebruary 16 – 2010:00 a.m. – 5:00 p.m.Wilson Room (across from Henry’s Café) \n\n\n\nThis exhibition is an opportunity to showcase the extraordinary talents of our Schoolcraft College community members.  \n\n\n\nThank you for helping us build a culture where art is seen\, valued\, and celebrated. \n\n\n\nLearn more about the SC Mosaic Arts on their website: schoolcraft.edu/mosaicarts
URL:https://www.schoolcraft.edu/event/sc-mosaic-arts-exhibition/2026-02-16/
CATEGORIES:Arts and Culture,Campus Life,Community
ATTACH;FMTTYPE=image/png:https://www.schoolcraft.edu/wp-content/uploads/2026/02/Screenshot-2026-02-12-at-2.59.56-PM.png
END:VEVENT
BEGIN:VEVENT
DTSTART;TZID=UTC:20260217T100000
DTEND;TZID=UTC:20260217T170000
DTSTAMP:20260424T214829
CREATED:20260212T195713Z
LAST-MODIFIED:20260212T200038Z
UID:8580-1771322400-1771347600@www.schoolcraft.edu
SUMMARY:SC Mosaic Arts Exhibition
DESCRIPTION:SC Mosaic Arts ExhibitionFebruary 16 – 2010:00 a.m. – 5:00 p.m.Wilson Room (across from Henry’s Café) \n\n\n\nThis exhibition is an opportunity to showcase the extraordinary talents of our Schoolcraft College community members.  \n\n\n\nThank you for helping us build a culture where art is seen\, valued\, and celebrated. \n\n\n\nLearn more about the SC Mosaic Arts on their website: schoolcraft.edu/mosaicarts
URL:https://www.schoolcraft.edu/event/sc-mosaic-arts-exhibition/2026-02-17/
CATEGORIES:Arts and Culture,Campus Life,Community
ATTACH;FMTTYPE=image/png:https://www.schoolcraft.edu/wp-content/uploads/2026/02/Screenshot-2026-02-12-at-2.59.56-PM.png
END:VEVENT
BEGIN:VEVENT
DTSTART;TZID=UTC:20260218T100000
DTEND;TZID=UTC:20260218T120000
DTSTAMP:20260424T214829
CREATED:20250219T211106Z
LAST-MODIFIED:20260122T155801Z
UID:8428-1771408800-1771416000@www.schoolcraft.edu
SUMMARY:Cultural Coffee Connection
DESCRIPTION:Location: Bradner Library\, Room 110 \n\n\n\n\n\n\n\nStudents\, faculty\, staff\, and community members are invited to attend our upcoming events. Join us for coffee\, tea\, and snacks. Enjoy an educational presentation at the beginning of each event and informal conversation with peers from various cultures around the world. For every event you attend\, you will be entered into a drawing for prizes at the end of the semester.
URL:https://www.schoolcraft.edu/event/cultural-coffee-connection-2/2026-02-18/
CATEGORIES:Arts and Culture,Campus Life,CEL,Community,International Institute,Student Activities
ATTACH;FMTTYPE=image/jpeg:https://www.schoolcraft.edu/wp-content/uploads/2026/01/CCC-W26-thumb-800x600-1.jpg
END:VEVENT
BEGIN:VEVENT
DTSTART;TZID=UTC:20260218T100000
DTEND;TZID=UTC:20260218T170000
DTSTAMP:20260424T214829
CREATED:20260212T195713Z
LAST-MODIFIED:20260212T200039Z
UID:8581-1771408800-1771434000@www.schoolcraft.edu
SUMMARY:SC Mosaic Arts Exhibition
DESCRIPTION:SC Mosaic Arts ExhibitionFebruary 16 – 2010:00 a.m. – 5:00 p.m.Wilson Room (across from Henry’s Café) \n\n\n\nThis exhibition is an opportunity to showcase the extraordinary talents of our Schoolcraft College community members.  \n\n\n\nThank you for helping us build a culture where art is seen\, valued\, and celebrated. \n\n\n\nLearn more about the SC Mosaic Arts on their website: schoolcraft.edu/mosaicarts
URL:https://www.schoolcraft.edu/event/sc-mosaic-arts-exhibition/2026-02-18/
CATEGORIES:Arts and Culture,Campus Life,Community
ATTACH;FMTTYPE=image/png:https://www.schoolcraft.edu/wp-content/uploads/2026/02/Screenshot-2026-02-12-at-2.59.56-PM.png
END:VEVENT
BEGIN:VEVENT
DTSTART;TZID=UTC:20260218T120000
DTEND;TZID=UTC:20260218T130000
DTSTAMP:20260424T214829
CREATED:20251023T153102Z
LAST-MODIFIED:20251023T153105Z
UID:8152-1771416000-1771419600@www.schoolcraft.edu
SUMMARY:Noon Concert Series: Music of China for the Chinese New Year
DESCRIPTION:Music of China for Chinese New YearVistatech Center\, Kehrl Auditorium \n\n\n\n\n\n\n\n\nChinese-born Xiao Dong Wei\, a 2012 Kresge Fellow\, is a master of the erhu\, a two-string Chinese fiddle that has played a noble role in Chinese folk and classical music. While she knows her native traditions like the back of her hand\, she has also made a specialty out of bringing her instrument into Western classical idioms and American pop music. \n\n\n\nJapanese-born pianist Yuki Mack has performed throughout the United States and three continents. Her performances include a broad range of piano works\, including chamber music and as a soloist with orchestras. Beyond the main stage\, she has performed live on the radio in Sweden\, Italy\, Poland\, and the United States\, and has appeared in a documentary on PBS. \n\n\n\n\n\n\n\n\n\nClick to Download PDF
URL:https://www.schoolcraft.edu/event/noon-concert-series-music-of-china-for-the-chinese-new-year/
CATEGORIES:Arts and Culture,Music
ATTACH;FMTTYPE=image/jpeg:https://www.schoolcraft.edu/wp-content/uploads/2025/10/noon-concert-series-25-26-thumb.jpg
END:VEVENT
BEGIN:VEVENT
DTSTART;TZID=UTC:20260219T100000
DTEND;TZID=UTC:20260219T170000
DTSTAMP:20260424T214829
CREATED:20260212T195713Z
LAST-MODIFIED:20260212T200039Z
UID:8582-1771495200-1771520400@www.schoolcraft.edu
SUMMARY:SC Mosaic Arts Exhibition
DESCRIPTION:SC Mosaic Arts ExhibitionFebruary 16 – 2010:00 a.m. – 5:00 p.m.Wilson Room (across from Henry’s Café) \n\n\n\nThis exhibition is an opportunity to showcase the extraordinary talents of our Schoolcraft College community members.  \n\n\n\nThank you for helping us build a culture where art is seen\, valued\, and celebrated. \n\n\n\nLearn more about the SC Mosaic Arts on their website: schoolcraft.edu/mosaicarts
URL:https://www.schoolcraft.edu/event/sc-mosaic-arts-exhibition/2026-02-19/
CATEGORIES:Arts and Culture,Campus Life,Community
ATTACH;FMTTYPE=image/png:https://www.schoolcraft.edu/wp-content/uploads/2026/02/Screenshot-2026-02-12-at-2.59.56-PM.png
END:VEVENT
BEGIN:VEVENT
DTSTART;TZID=UTC:20260220T100000
DTEND;TZID=UTC:20260220T170000
DTSTAMP:20260424T214829
CREATED:20260212T195713Z
LAST-MODIFIED:20260212T200040Z
UID:8583-1771581600-1771606800@www.schoolcraft.edu
SUMMARY:SC Mosaic Arts Exhibition
DESCRIPTION:SC Mosaic Arts ExhibitionFebruary 16 – 2010:00 a.m. – 5:00 p.m.Wilson Room (across from Henry’s Café) \n\n\n\nThis exhibition is an opportunity to showcase the extraordinary talents of our Schoolcraft College community members.  \n\n\n\nThank you for helping us build a culture where art is seen\, valued\, and celebrated. \n\n\n\nLearn more about the SC Mosaic Arts on their website: schoolcraft.edu/mosaicarts
URL:https://www.schoolcraft.edu/event/sc-mosaic-arts-exhibition/2026-02-20/
CATEGORIES:Arts and Culture,Campus Life,Community
ATTACH;FMTTYPE=image/png:https://www.schoolcraft.edu/wp-content/uploads/2026/02/Screenshot-2026-02-12-at-2.59.56-PM.png
END:VEVENT
END:VCALENDAR