



BEGIN:VCALENDAR
VERSION:2.0
PRODID:-//Schoolcraft College - ECPv6.15.17.1//NONSGML v1.0//EN
CALSCALE:GREGORIAN
METHOD:PUBLISH
X-WR-CALNAME:Schoolcraft College
X-ORIGINAL-URL:https://www.schoolcraft.edu
X-WR-CALDESC:Events for Schoolcraft College
REFRESH-INTERVAL;VALUE=DURATION:PT1H
X-Robots-Tag:noindex
X-PUBLISHED-TTL:PT1H
BEGIN:VTIMEZONE
TZID:UTC
BEGIN:STANDARD
TZOFFSETFROM:+0000
TZOFFSETTO:+0000
TZNAME:UTC
DTSTART:20240101T000000
END:STANDARD
END:VTIMEZONE
BEGIN:VEVENT
DTSTART;TZID=UTC:20251001T120000
DTEND;TZID=UTC:20251001T130000
DTSTAMP:20260422T011447
CREATED:20251023T145356Z
LAST-MODIFIED:20251023T152338Z
UID:8145-1759320000-1759323600@www.schoolcraft.edu
SUMMARY:Noon Concert Series: Solomia Soroka (violin) Arthur Greene (piano)
DESCRIPTION:Vistatech Center\, Kehrl Auditorium \n\n\n\n\n\n\n\n\nThe Soroka-Greene Duo is a husband-wife team of international prize-winning soloists\, presenting brilliant and personal performances of standard violin-piano repertoire as well as many unique and fascinating lesser-known works. The couple made the first recording of the four Bolcom Sonatas\, and Solomia Soroka discovered otherwise unplayed exquisite works of Arthur Hartmann. They have performed together throughout Europe\, the United States\, and Asia. \n\n\n\n\n\n\n\n\n\nClick to Download PDF
URL:https://www.schoolcraft.edu/event/solomia-soroka-violinarthur-greene-piano/
LOCATION:vista
CATEGORIES:Arts and Culture,Music
ATTACH;FMTTYPE=image/jpeg:https://www.schoolcraft.edu/wp-content/uploads/2025/10/noon-concert-series-25-26-thumb.jpg
ORGANIZER;CN="Music":MAILTO:music@schoolcraft.edu
END:VEVENT
BEGIN:VEVENT
DTSTART;TZID=UTC:20251022T120000
DTEND;TZID=UTC:20251022T130000
DTSTAMP:20260422T011447
CREATED:20251023T145732Z
LAST-MODIFIED:20251023T152331Z
UID:8147-1761134400-1761138000@www.schoolcraft.edu
SUMMARY:Noon Concert Series: Third Coast Swing featuring Dave Bennett & Grant Flick
DESCRIPTION:Five piece Eclectic Jazz ensembleVistatech Center\, Kehrl Auditorium \n\n\n\n\n\n\n\n\nThird Coast Swing has been playing the music of the late Belgium-born Romani Gypsy\, Django Reinhardt & his band\, The Hot Club of Paris 1930’s-1940’s. Think Louis Armstrong with a French accent. The band has performed with National Touring acts such as Frank Vignola\, Denis Chang\, Jimmy Grant\, Dave Bennett and The Midwest Gypsy Jazz Fest in Madison\, Wisconsin. Regional performances include the West Michigan Jazz Society\, the Ludington Amphitheater\, the Ludington Area Center for the Arts\, Bell’s Kalamazoo\, Detroit Jazz Society\, Crooked Tree Arts Center\, and Kerrytown Concert House. \n\n\n\n\n\n\n\n\n\nClick to Download PDF
URL:https://www.schoolcraft.edu/event/8147/
CATEGORIES:Arts and Culture,Music
ATTACH;FMTTYPE=image/jpeg:https://www.schoolcraft.edu/wp-content/uploads/2025/10/noon-concert-series-25-26-thumb.jpg
ORGANIZER;CN="Music":MAILTO:music@schoolcraft.edu
END:VEVENT
BEGIN:VEVENT
DTSTART;TZID=UTC:20251024T130000
DTEND;TZID=UTC:20251024T140000
DTSTAMP:20260422T011447
CREATED:20251013T204504Z
LAST-MODIFIED:20251013T204507Z
UID:8096-1761310800-1761314400@www.schoolcraft.edu
SUMMARY:Fall 2025 SCII Meeting Dates
DESCRIPTION:Our future SCII meeting dates for the fall semester will be on the following dates:October 24th and November 21st at 1 pm in Lower Waterman – Student Services area. \n\n\n\n\n\n\n\n\nAbout the International Agenda\n\n\n\nInternational Agenda advances the SCII mission by providing a campus-wide forum for the exchange of information and perspectives related to international and intercultural education. \n\n\n\nThe editorial staff is always looking for ideas about campus\, community and state-wide events relevant to international and intercultural education. Individuals are encouraged to email any of our editors with ideas and suggestion for inclusion in our Agenda newsletter. \n\n\n\nDuring the Fall 2020\, the SCII Agenda switched to a fully electronic newsletter format. The format facilitates more frequent and timely communication about upcoming events and opportunities.  All Schoolcraft College faculty and staff automatically receive the emailed newsletter; non-Schoolcraft affiliated individuals may subscribe to the newsletter by contacting Colleen Pilgrim (Editor).
URL:https://www.schoolcraft.edu/event/fall-2025-scii-meeting-dates/2025-10-24/
CATEGORIES:Arts and Culture,International Institute
ATTACH;FMTTYPE=image/jpeg:https://www.schoolcraft.edu/wp-content/uploads/2025/10/scii-thumb.jpg
ORGANIZER;CN="International Institute":MAILTO:interinstitute@schoolcraft.edu
END:VEVENT
BEGIN:VEVENT
DTSTART;TZID=UTC:20251028T133000
DTEND;TZID=UTC:20251028T143000
DTSTAMP:20260422T011447
CREATED:20251013T203916Z
LAST-MODIFIED:20251013T204005Z
UID:8091-1761658200-1761661800@www.schoolcraft.edu
SUMMARY:Balance\, Boundaries\, and Building Energy – Mind-Body Reset: Everyday Tools for Balance 
DESCRIPTION:Kehrl Auditorium\, Vistatech Center  \n\n\n\n\n\n\n\nPlease join GlobalEYEzers for a presentation by Mukta Joshi\, Certified Life & Wellness Coach Balance\, Boundaries\, and Building Energy – Mind-Body Reset: Everyday Tools for Balance \n\n\n\nA wellness session for us to discover simple and practical ways to boost mental clarity\, physical energy\, self-care\, and relationships. Walk away with real life tools you can start using immediately to build healthier and more balanced habits! Schoolcraft family and community members invited!
URL:https://www.schoolcraft.edu/event/balance-boundaries-and-building-energy-mind-body-reset-everyday-tools-for-balance/
CATEGORIES:Arts and Culture,International Institute
ATTACH;FMTTYPE=image/jpeg:https://www.schoolcraft.edu/wp-content/uploads/2025/10/sc-globaleyezers-thumb.jpg
ORGANIZER;CN="International Institute":MAILTO:interinstitute@schoolcraft.edu
END:VEVENT
END:VCALENDAR