



BEGIN:VCALENDAR
VERSION:2.0
PRODID:-//Schoolcraft College - ECPv6.15.17.1//NONSGML v1.0//EN
CALSCALE:GREGORIAN
METHOD:PUBLISH
X-WR-CALNAME:Schoolcraft College
X-ORIGINAL-URL:https://www.schoolcraft.edu
X-WR-CALDESC:Events for Schoolcraft College
REFRESH-INTERVAL;VALUE=DURATION:PT1H
X-Robots-Tag:noindex
X-PUBLISHED-TTL:PT1H
BEGIN:VTIMEZONE
TZID:UTC
BEGIN:STANDARD
TZOFFSETFROM:+0000
TZOFFSETTO:+0000
TZNAME:UTC
DTSTART:20250101T000000
END:STANDARD
END:VTIMEZONE
BEGIN:VEVENT
DTSTART;TZID=UTC:20260422T090000
DTEND;TZID=UTC:20260422T150000
DTSTAMP:20260422T014548
CREATED:20260406T175527Z
LAST-MODIFIED:20260406T180125Z
UID:9089-1776848400-1776870000@www.schoolcraft.edu
SUMMARY:Grad Fair
DESCRIPTION:Location: Bookstore \n\n\n\n\n\n\n\n\n\n\nGraduating? Stop by the Book Store during the Grad Fair to purchase your cap and gown\, as well as tickets for Schoolcraft College’s 61st Annual Commencement Ceremony!  \n\n\n\nLearn More
URL:https://www.schoolcraft.edu/event/grad-fair-2026/2026-04-22/
CATEGORIES:Campus Life
ATTACH;FMTTYPE=image/jpeg:https://www.schoolcraft.edu/wp-content/uploads/2026/04/grad-fair-2026-thumbnail.jpg
END:VEVENT
BEGIN:VEVENT
DTSTART;TZID=UTC:20260422T090000
DTEND;TZID=UTC:20260422T130000
DTSTAMP:20260422T014548
CREATED:20260127T195136Z
LAST-MODIFIED:20260127T195156Z
UID:8514-1776848400-1776862800@www.schoolcraft.edu
SUMMARY:Advising with Eastern Michigan University
DESCRIPTION:Location: McDowell MC-105 \n\n\n\n\n\n\n\n\n\n\nAre you planning to transfer to Eastern Michigan University? \n\n\n\nNo need to make the trip to their campus. You can meet with one of their academic advisors right here at Schoolcraft and learn more about their process\, requirements\, and program offerings. \n\n\n\nAdvisors will be able to meet with students individually to discuss specific information about programs and transfer options.
URL:https://www.schoolcraft.edu/event/advising-with-eastern-michigan-university/2026-04-22/
CATEGORIES:Campus Life
ATTACH;FMTTYPE=image/jpeg:https://www.schoolcraft.edu/wp-content/uploads/2025/02/emu.jpg
ORGANIZER;CN="Academic Advising":MAILTO:eadvise@schoolcraft.edu
END:VEVENT
BEGIN:VEVENT
DTSTART;TZID=UTC:20260422T130000
DTEND;TZID=UTC:20260422T160000
DTSTAMP:20260422T014548
CREATED:20260127T194857Z
LAST-MODIFIED:20260127T194857Z
UID:8510-1776862800-1776873600@www.schoolcraft.edu
SUMMARY:Advising with UofM Ann Arbor LSA
DESCRIPTION:Location: McDowell MC-105 \n\n\n\n\n\n\n\n\n\n\nAre you planning to transfer to UofM Ann Arbor LSA? \n\n\n\nNo need to make the trip to their campus. You can meet with one of their academic advisors right here at Schoolcraft and learn more about their process\, requirements\, and program offerings. \n\n\n\nAdvisors will be able to meet with students individually to discuss specific information about programs and transfer options.
URL:https://www.schoolcraft.edu/event/advising-with-uofm-ann-arbor-lsa/2026-04-22/
CATEGORIES:University Visits
ATTACH;FMTTYPE=image/jpeg:https://www.schoolcraft.edu/wp-content/uploads/2025/01/lsa.jpg
ORGANIZER;CN="Academic Advising":MAILTO:eadvise@schoolcraft.edu
END:VEVENT
BEGIN:VEVENT
DTSTART;TZID=UTC:20260422T170000
DTEND;TZID=UTC:20260422T210000
DTSTAMP:20260422T014548
CREATED:20260406T200258Z
LAST-MODIFIED:20260406T200610Z
UID:9100-1776877200-1776891600@www.schoolcraft.edu
SUMMARY:Winter 2026 Final Exam Review Sessions – Math & Chemistry
DESCRIPTION:Prepare for your final exams with review sessions hosted by the Bradner Library & Learning Support Services Learning Center. These sessions are designed to help you reinforce key concepts\, ask questions\, and build confidence before your exams. \n\n\n\nAvailable Courses:MATH 101\, 102\, 111\, 113\, 126\, 129 / CHEM 111Session Dates:April 22 – April 25\, 2026Times:Sessions are offered in afternoon and evening blocks (12 p.m. – 4 p.m. and 5 p.m. – 9 p.m.)\, with a morning session available for CHEM 111.Location:Learning Center (LA Building – specific room varies by session)\n\n\n\nLearn More \n\n\n\nQuestions? Contact the Learning Center at 734-462-4436 or lc@schoolcraft.edu \n\n\n\n\n\n\n\n\n\n\n\n\n\nLinks for virtual attendance\, session packets\, and topic lists are available via the QR code on the event flyer or through the Learning Center website.
URL:https://www.schoolcraft.edu/event/winter-2026-final-exam-review-sessions-math-chemistry/2026-04-22/
CATEGORIES:Learning Support
ATTACH;FMTTYPE=image/png:https://www.schoolcraft.edu/wp-content/uploads/2021/07/summary-learning-support.png
ORGANIZER;CN="Learning Support Services":MAILTO:learningsupport@schoolcraft.edu
END:VEVENT
END:VCALENDAR