



BEGIN:VCALENDAR
VERSION:2.0
PRODID:-//Schoolcraft College - ECPv6.15.17.1//NONSGML v1.0//EN
CALSCALE:GREGORIAN
METHOD:PUBLISH
X-WR-CALNAME:Schoolcraft College
X-ORIGINAL-URL:https://www.schoolcraft.edu
X-WR-CALDESC:Events for Schoolcraft College
REFRESH-INTERVAL;VALUE=DURATION:PT1H
X-Robots-Tag:noindex
X-PUBLISHED-TTL:PT1H
BEGIN:VTIMEZONE
TZID:UTC
BEGIN:STANDARD
TZOFFSETFROM:+0000
TZOFFSETTO:+0000
TZNAME:UTC
DTSTART:20250101T000000
END:STANDARD
END:VTIMEZONE
BEGIN:VEVENT
DTSTART;TZID=UTC:20260420T090000
DTEND;TZID=UTC:20260420T170000
DTSTAMP:20260420T021458
CREATED:20260312T180519Z
LAST-MODIFIED:20260312T180519Z
UID:8702-1776675600-1776704400@www.schoolcraft.edu
SUMMARY:Advising with Wayne State University: Mike Ilitch School of Business 
DESCRIPTION:Monday\, 9AM–5PM\, JC-330\, or Remote Tuesday\, 9AM–5PM\, JC-330\, or Remote Thursday\, 9AM–5PM\, JC-330\, or Remote  \n\n\n\n\n\n\n\n\nAre you planning to transfer to Wayne State University: Mike Ilitch School of Business?  \n\n\n\nNo need to make the trip to their campus. You can meet with one of their academic advisors right here at Schoolcraft and learn more about their process\, requirements\, and program offerings.  \n\n\n\nAdvisors will be able to meet with students individually to discuss specific information about programs and transfer options.  
URL:https://www.schoolcraft.edu/event/advising-with-wayne-state-university-mike-ilitch-school-of-business-2/2026-04-20/
ATTACH;FMTTYPE=image/jpeg:https://www.schoolcraft.edu/wp-content/uploads/2024/08/wsu-mi-school-business.jpg
ORGANIZER;CN="Academic Advising":MAILTO:eadvise@schoolcraft.edu
END:VEVENT
BEGIN:VEVENT
DTSTART;TZID=UTC:20260420T100000
DTEND;TZID=UTC:20260420T130000
DTSTAMP:20260420T021458
CREATED:20260127T194051Z
LAST-MODIFIED:20260303T202607Z
UID:8504-1776679200-1776690000@www.schoolcraft.edu
SUMMARY:Advising with Oakland University
DESCRIPTION:Location: McDowell MC-105 \n\n\n\n\n\n\n\n\n\n\nAre you planning to transfer to Oakland University? \n\n\n\nNo need to make the trip to their campus. You can meet with one of their academic advisors right here at Schoolcraft and learn more about their process\, requirements\, and program offerings. \n\n\n\nAdvisors will be able to meet with students individually to discuss specific information about programs and transfer options.
URL:https://www.schoolcraft.edu/event/advising-with-oakland-university-2/2026-04-20/
CATEGORIES:University Visits
ATTACH;FMTTYPE=image/jpeg:https://www.schoolcraft.edu/wp-content/uploads/2025/02/oakland-university.jpg
ORGANIZER;CN="Academic Advising":MAILTO:eadvise@schoolcraft.edu
END:VEVENT
BEGIN:VEVENT
DTSTART;TZID=UTC:20260420T193000
DTEND;TZID=UTC:20260420T203000
DTSTAMP:20260420T021458
CREATED:20251207T174325Z
LAST-MODIFIED:20260408T191646Z
UID:8288-1776713400-1776717000@www.schoolcraft.edu
SUMMARY:Schoolcraft College Jazz Program: Up Jumped Spring Concert
DESCRIPTION:Location: Vistatech Center\, DiPonio Room \n\n\n\n\n\n\n\n\n\n\nThe Schoolcraft College Jazz Studies Program\, under the direction of Dr. Riccardo Selva\, presents a concert featuring the talented musicians of the Jazz Ensemble and Jazz Improvisation Combo. The eclectic repertoire programmed by the ensembles will unfold into a lively and creative concert that promises to usher in the freshness of spring. \n\n\n\nAdmission is free. Donations will be gratefully accepted at the door and will be used to fund student scholarships and the Jazz Program. \n\n\n\nFor more information\, contact:Dr. Riccardo SelvaPhone: 847-721-7299Email: rselva@schoolcraft.edu
URL:https://www.schoolcraft.edu/event/schoolcraft-college-jazz-program-up-jumped-spring-concert/
CATEGORIES:Arts and Culture,Music
ATTACH;FMTTYPE=image/jpeg:https://www.schoolcraft.edu/wp-content/uploads/2026/04/ujsc-2026-thumb.jpg
ORGANIZER;CN="Music":MAILTO:music@schoolcraft.edu
END:VEVENT
END:VCALENDAR