



BEGIN:VCALENDAR
VERSION:2.0
PRODID:-//Schoolcraft College - ECPv6.15.17.1//NONSGML v1.0//EN
CALSCALE:GREGORIAN
METHOD:PUBLISH
X-ORIGINAL-URL:https://www.schoolcraft.edu
X-WR-CALDESC:Events for Schoolcraft College
REFRESH-INTERVAL;VALUE=DURATION:PT1H
X-Robots-Tag:noindex
X-PUBLISHED-TTL:PT1H
BEGIN:VTIMEZONE
TZID:UTC
BEGIN:STANDARD
TZOFFSETFROM:+0000
TZOFFSETTO:+0000
TZNAME:UTC
DTSTART:20250101T000000
END:STANDARD
END:VTIMEZONE
BEGIN:VEVENT
DTSTART;TZID=UTC:20260129T090000
DTEND;TZID=UTC:20260129T100000
DTSTAMP:20260423T045022
CREATED:20250502T152750Z
LAST-MODIFIED:20260408T195055Z
UID:8227-1769677200-1769680800@www.schoolcraft.edu
SUMMARY:Proposal & Bidding Best Practices
DESCRIPTION:Virtual – No fee\, registration is required. \n\n\n\n\n\n\n\nWinning government contracts requires proper planning and preparation. This session is designed to provide you with best practices for reviewing solicitations\, preparing proposals\, and steps to consider when awarded or not awarded a government contract. \n\n\n\nAs a result of this session\, you will: \n\n\n\n\nIdentify the qualities of a responsible contractor\n\n\n\nLearn how the government makes award determinations\n\n\n\nUnderstand relevant FAR clauses listed in the solicitation\n\n\n\nKnow your rights regarding debriefs and protests\n\n\n\nLearn what it means to be responsive and responsible\n\n\n\n\n\n\n\n\n\n\n\n\nRegister Now \n\n\n\n\n\n\n\nSchoolcraft APEX Accelerator Team734-462-4438 or apex@schoolcraft.edu \n\n\n\nThis APEX Accelerator is funded in part through a cooperative agreement with the Department of Defense. Additionally\, the Schoolcraft College APEX Accelerator is funded by the Michigan Economic Development Corporation (MEDC) and Schoolcraft College.
URL:https://www.schoolcraft.edu/event/proposal-writing-bidding-best-practices-2/2026-01-29/
CATEGORIES:Workforce & Economic Development
ATTACH;FMTTYPE=image/png:https://www.schoolcraft.edu/wp-content/uploads/2026/01/proposal-best-bidding.png
ORGANIZER;CN="Workforce &amp%3B Economic Development":MAILTO:bdc@schoolcraft.edu
END:VEVENT
BEGIN:VEVENT
DTSTART;TZID=UTC:20260129T090000
DTEND;TZID=UTC:20260129T170000
DTSTAMP:20260423T045022
CREATED:20260123T160805Z
LAST-MODIFIED:20260123T161050Z
UID:8459-1769677200-1769706000@www.schoolcraft.edu
SUMMARY:Advising with Wayne State University: Mike Ilitch School of Business
DESCRIPTION:Location: JC-330 or Remote \n\n\n\n\n\n\n\n\n\n\nAre you planning to transfer to Wayne State University: Mike Ilitch School of Business? \n\n\n\nNo need to make the trip to their campus. You can meet with one of their academic advisors right here at Schoolcraft and learn more about their process\, requirements\, and program offerings. \n\n\n\nAdvisors will be able to meet with students individually to discuss specific information about programs and transfer options.
URL:https://www.schoolcraft.edu/event/advising-with-wayne-state-university-mike-ilitch-school-of-business/2026-01-29/
CATEGORIES:University Visits
ATTACH;FMTTYPE=image/jpeg:https://www.schoolcraft.edu/wp-content/uploads/2024/08/wsu-mi-school-business.jpg
ORGANIZER;CN="Academic Advising":MAILTO:eadvise@schoolcraft.edu
END:VEVENT
BEGIN:VEVENT
DTSTART;TZID=UTC:20260129T110000
DTEND;TZID=UTC:20260129T150000
DTSTAMP:20260423T045022
CREATED:20251212T221913Z
LAST-MODIFIED:20251212T222651Z
UID:8310-1769684400-1769698800@www.schoolcraft.edu
SUMMARY:Winter 2026 JumpStart! Session 5
DESCRIPTION:Session 5 – Late Start Course PreparationBradner Library\, L 105 -OR-Attend Session Remotely \n\n\n\n\n\n\n\n\nJumpStart! is a remote and in-person workshop series that reviews key math strategies to prepare you for your upcoming courses in math or related subjects. \n\n\n\nRegistration Not Required. Students may attend either in-person or via live-webinar within the listed times. Students will be required to sign in by providing their name\, Student ID\, and upcoming course at the beginning of the workshop. Recordings are auto-captioned through Ocelot Studio.Questions? 734-462-4436\, lc@schoolcraft.edu  \n\n\n\nView Session Information \n\n\n\n\n\nTopics:• Solving linear equations • Solving non-linear equations • Exponentials• Logarithms• Graphing by translation \n\n\n\n\n\n\n\nRecommended for Students In:• MATH 113\, 126\,• All CHEM courses• PHYS 123\, 181\, 182
URL:https://www.schoolcraft.edu/event/winter-2026-jumpstart-session-5-2/
CATEGORIES:Student Services
ATTACH;FMTTYPE=image/jpeg:https://www.schoolcraft.edu/wp-content/uploads/2025/08/sc-thumb.jpg
END:VEVENT
BEGIN:VEVENT
DTSTART;TZID=UTC:20260129T130000
DTEND;TZID=UTC:20260129T150000
DTSTAMP:20260423T045022
CREATED:20250219T211106Z
LAST-MODIFIED:20260122T155800Z
UID:6864-1769691600-1769698800@www.schoolcraft.edu
SUMMARY:Cultural Coffee Connection
DESCRIPTION:Location: Bradner Library\, Room 110 \n\n\n\n\n\n\n\nStudents\, faculty\, staff\, and community members are invited to attend our upcoming events. Join us for coffee\, tea\, and snacks. Enjoy an educational presentation at the beginning of each event and informal conversation with peers from various cultures around the world. For every event you attend\, you will be entered into a drawing for prizes at the end of the semester.
URL:https://www.schoolcraft.edu/event/cultural-coffee-connection-2/2026-01-29/
CATEGORIES:Arts and Culture,Campus Life,CEL,Community,International Institute,Student Activities
ATTACH;FMTTYPE=image/jpeg:https://www.schoolcraft.edu/wp-content/uploads/2026/01/CCC-W26-thumb-800x600-1.jpg
END:VEVENT
BEGIN:VEVENT
DTSTART;TZID=UTC:20260129T130000
DTEND;TZID=UTC:20260129T160000
DTSTAMP:20260423T045022
CREATED:20260127T192326Z
LAST-MODIFIED:20260127T192506Z
UID:8479-1769691600-1769702400@www.schoolcraft.edu
SUMMARY:Advising with Wayne State University: General Advising
DESCRIPTION:Location: McDowell MC-105 \n\n\n\n\n\n\n\n\nAre you planning to transfer to Wayne State University: General Advising? \n\n\n\nNo need to make the trip to their campus. You can meet with one of their academic advisors right here at Schoolcraft and learn more about their process\, requirements\, and program offerings. \n\n\n\nAdvisors will be able to meet with students individually to discuss specific information about programs and transfer options.
URL:https://www.schoolcraft.edu/event/advising-with-wayne-state-university-general-advising-2/2026-01-29/
CATEGORIES:University Visits
ATTACH;FMTTYPE=image/jpeg:https://www.schoolcraft.edu/wp-content/uploads/2025/01/wayne-state-university.jpg
ORGANIZER;CN="Academic Advising":MAILTO:eadvise@schoolcraft.edu
END:VEVENT
BEGIN:VEVENT
DTSTART;TZID=UTC:20260129T153000
DTEND;TZID=UTC:20260129T173000
DTSTAMP:20260423T045023
CREATED:20251212T222056Z
LAST-MODIFIED:20251212T222857Z
UID:8312-1769700600-1769707800@www.schoolcraft.edu
SUMMARY:Winter 2026 JumpStart! Session 6
DESCRIPTION:Session 6 – Late Start Course PreparationBradner Library\, L 105-OR-Attend Session Remotely \n\n\n\n\n\n\n\n\nJumpStart! is a remote and in-person workshop series that reviews key math strategies to prepare you for your upcoming courses in math or related subjects. \n\n\n\nRegistration Not Required. Students may attend either in-person or via live-webinar within the listed times. Students will be required to sign in by providing their name\, Student ID\, and upcoming course at the beginning of the workshop. Recordings are auto-captioned through Ocelot Studio.Questions? 734-462-4436\, lc@schoolcraft.edu  \n\n\n\nView Session Information \n\n\n\n\n\nTopics:• Functions• Domain• Graphing polynomials• Graphing rational functions \n\n\n\n\n\n\n\nRecommended for Students In:• MATH 126\, 129
URL:https://www.schoolcraft.edu/event/winter-2026-jumpstart-session-6-2/
CATEGORIES:Student Services
ATTACH;FMTTYPE=image/jpeg:https://www.schoolcraft.edu/wp-content/uploads/2025/08/sc-thumb.jpg
END:VEVENT
END:VCALENDAR