



BEGIN:VCALENDAR
VERSION:2.0
PRODID:-//Schoolcraft College - ECPv6.15.17.1//NONSGML v1.0//EN
CALSCALE:GREGORIAN
METHOD:PUBLISH
X-ORIGINAL-URL:https://www.schoolcraft.edu
X-WR-CALDESC:Events for Schoolcraft College
REFRESH-INTERVAL;VALUE=DURATION:PT1H
X-Robots-Tag:noindex
X-PUBLISHED-TTL:PT1H
BEGIN:VTIMEZONE
TZID:UTC
BEGIN:STANDARD
TZOFFSETFROM:+0000
TZOFFSETTO:+0000
TZNAME:UTC
DTSTART:20250101T000000
END:STANDARD
END:VTIMEZONE
BEGIN:VEVENT
DTSTART;TZID=UTC:20260107T110000
DTEND;TZID=UTC:20260107T130000
DTSTAMP:20260421T230716
CREATED:20251212T210749Z
LAST-MODIFIED:20251212T220835Z
UID:8295-1767783600-1767790800@www.schoolcraft.edu
SUMMARY:Winter 2026 JumpStart! Session 1
DESCRIPTION:Session 1 – Full Semester Course PreparationLiberal Arts Building\, LA 200 -OR-Attend Session Remotely \n\n\n\n\n\n\n\n\nJumpStart! is a remote and in-person workshop series that reviews key math strategies to prepare you for your upcoming courses in math or related subjects. \n\n\n\nRegistration Not Required. Students may attend either in-person or via live-webinar within the listed times. Students will be required to sign in by providing their name\, Student ID\, and upcoming course at the beginning of the workshop. Recordings are auto-captioned through Ocelot Studio.Questions? 734-462-4436\, lc@schoolcraft.edu  \n\n\n\nView Session Information \n\n\n\n\n\nTopics:• Place value• Rounding operations on whole numbers• Operations on fractions• Operations on Decimals• Proportions• Percents• Converting rational numbers• Scientific notation• Number sense• Number line\, inequalities\, and  interval notation \n\n\n\n\n\n\n\nRecommended for Students In:• MATH 101\, 102\, 111\, 113\, 122• ACCT 103\, 201
URL:https://www.schoolcraft.edu/event/winter-2026-jumpstart-session-1/
CATEGORIES:Student Services
ATTACH;FMTTYPE=image/jpeg:https://www.schoolcraft.edu/wp-content/uploads/2025/08/sc-thumb.jpg
ORGANIZER;CN="Learning Support Services":MAILTO:learningsupport@schoolcraft.edu
END:VEVENT
BEGIN:VEVENT
DTSTART;TZID=UTC:20260107T133000
DTEND;TZID=UTC:20260107T150000
DTSTAMP:20260421T230716
CREATED:20251212T220143Z
LAST-MODIFIED:20251212T220537Z
UID:8302-1767792600-1767798000@www.schoolcraft.edu
SUMMARY:Winter 2026 JumpStart! Session 2
DESCRIPTION:Session 2 – Full Semester Course PreparationLiberal Arts Building\, LA 200 -OR-Attend Session Remotely \n\n\n\n\n\n\n\n\nJumpStart! is a remote and in-person workshop series that reviews key math strategies to prepare you for your upcoming courses in math or related subjects. \n\n\n\nRegistration Not Required. Students may attend either in-person or via live-webinar within the listed times. Students will be required to sign in by providing their name\, Student ID\, and upcoming course at the beginning of the workshop. Recordings are auto-captioned through Ocelot Studio.Questions? 734-462-4436\, lc@schoolcraft.edu  \n\n\n\nView Session Information \n\n\n\n\n\nTopics:• Integers• Order of operations• Evaluating expressions• Using formulas• Solving equations• Solving formulas• Graphing lines \n\n\n\n\n\n\n\nRecommended for Students In:• MATH 101\, 102\, 111\, 113\, 122• PHYS 104\, 123• ECON 103\, 201\, and 202
URL:https://www.schoolcraft.edu/event/winter-2026-jumpstart-session-2/
CATEGORIES:Student Services
ATTACH;FMTTYPE=image/jpeg:https://www.schoolcraft.edu/wp-content/uploads/2025/08/sc-thumb.jpg
END:VEVENT
END:VCALENDAR