



BEGIN:VCALENDAR
VERSION:2.0
PRODID:-//Schoolcraft College - ECPv6.15.17.1//NONSGML v1.0//EN
CALSCALE:GREGORIAN
METHOD:PUBLISH
X-WR-CALNAME:Schoolcraft College
X-ORIGINAL-URL:https://www.schoolcraft.edu
X-WR-CALDESC:Events for Schoolcraft College
REFRESH-INTERVAL;VALUE=DURATION:PT1H
X-Robots-Tag:noindex
X-PUBLISHED-TTL:PT1H
BEGIN:VTIMEZONE
TZID:UTC
BEGIN:STANDARD
TZOFFSETFROM:+0000
TZOFFSETTO:+0000
TZNAME:UTC
DTSTART:20240101T000000
END:STANDARD
END:VTIMEZONE
BEGIN:VEVENT
DTSTART;TZID=UTC:20251218T090000
DTEND;TZID=UTC:20251218T170000
DTSTAMP:20260419T172157
CREATED:20250828T193214Z
LAST-MODIFIED:20250828T193214Z
UID:8469-1766048400-1766077200@www.schoolcraft.edu
SUMMARY:Wayne State University: Mike Ilitch School of Business Advising
DESCRIPTION:Are you planning to transfer to Wayne State University: Mike Ilitch School of Business? \n\n\n\nNo need to make the trip to their campus. Students can meet with a Wayne State University: Mike Ilitch School of Business advisor in the Jeffress Center\, room 330\, or remotely. \n\n\n\nPlease contact 734-462-3450\, or email patricia.michno@wayne.edu to schedule an appointment.
URL:https://www.schoolcraft.edu/event/wayne-state-university-mike-ilitch-school-of-business-advising/2025-12-18/
CATEGORIES:University Visits
ATTACH;FMTTYPE=image/jpeg:https://www.schoolcraft.edu/wp-content/uploads/2024/08/wsu-mi-school-business.jpg
ORGANIZER;CN="Academic Advising":MAILTO:eadvise@schoolcraft.edu
END:VEVENT
BEGIN:VEVENT
DTSTART;TZID=UTC:20251218T160000
DTEND;TZID=UTC:20251218T170000
DTSTAMP:20260419T172157
CREATED:20251119T174333Z
LAST-MODIFIED:20251119T174355Z
UID:8251-1766073600-1766077200@www.schoolcraft.edu
SUMMARY:Consider Michigan Virtual Open Houses
DESCRIPTION:Join us for a virtual information session and learn about the transfer admissions and financial aid processes at the U-M. Representatives from a wide array of U-M schools and colleges will be featured on each day\, including the Ross School of Business\, the College of Engineering\, the Marsal School of Education\, the College of Literature\, Science\, and the Arts\, the School of Nursing\, the Division of Dental Hygiene\, and many more. \n\n\n\nRSVP Here
URL:https://www.schoolcraft.edu/event/consider-michigan-virtual-open-houses/2025-12-18/
CATEGORIES:University Visits
ATTACH;FMTTYPE=image/jpeg:https://www.schoolcraft.edu/wp-content/uploads/2025/11/consider-michigan-thumb.jpg
ORGANIZER;CN="Academic Advising":MAILTO:eadvise@schoolcraft.edu
END:VEVENT
BEGIN:VEVENT
DTSTART;TZID=UTC:20251218T160000
DTEND;TZID=UTC:20251218T170000
DTSTAMP:20260419T172157
CREATED:20251119T175318Z
LAST-MODIFIED:20251119T175535Z
UID:8256-1766073600-1766077200@www.schoolcraft.edu
SUMMARY:Making The Leap: Student Perspectives on Transferring to the University of Michigan
DESCRIPTION:Are you planning to transfer to the University of Michigan? \n\n\n\nJoin us for this virtual panel discussion with students who have transferred to the U-M from community colleges. Hear their stories\, gain valuable advice\, and begin to picture your next step! \n\n\n\nRSVP Here
URL:https://www.schoolcraft.edu/event/making-the-leap-student-perspectives-on-transferring-to-the-u-m/2025-12-18/
CATEGORIES:University Visits
ATTACH;FMTTYPE=image/jpeg:https://www.schoolcraft.edu/wp-content/uploads/2025/11/making-the-leap-thumb.jpg
ORGANIZER;CN="Academic Advising":MAILTO:eadvise@schoolcraft.edu
END:VEVENT
END:VCALENDAR