



BEGIN:VCALENDAR
VERSION:2.0
PRODID:-//Schoolcraft College - ECPv6.15.17.1//NONSGML v1.0//EN
CALSCALE:GREGORIAN
METHOD:PUBLISH
X-ORIGINAL-URL:https://www.schoolcraft.edu
X-WR-CALDESC:Events for Schoolcraft College
REFRESH-INTERVAL;VALUE=DURATION:PT1H
X-Robots-Tag:noindex
X-PUBLISHED-TTL:PT1H
BEGIN:VTIMEZONE
TZID:UTC
BEGIN:STANDARD
TZOFFSETFROM:+0000
TZOFFSETTO:+0000
TZNAME:UTC
DTSTART:20240101T000000
END:STANDARD
END:VTIMEZONE
BEGIN:VEVENT
DTSTART;TZID=UTC:20250508T080000
DTEND;TZID=UTC:20250508T170000
DTSTAMP:20260422T070630
CREATED:20250127T172102Z
LAST-MODIFIED:20250307T183831Z
UID:6708-1746691200-1746723600@www.schoolcraft.edu
SUMMARY:PPL Kids on Campus Registration
DESCRIPTION:Kids on Campus summer camp registration through Schoolcraft College’s Personal & Professional Learning department begins at 8:00am on Thursday\, 2/14/25 and goes through August 7. \n\n\n\nMany of our camps fill. Register early for high-demand camps and before and after care to secure your spot. \n\n\n\nRegistration can be done online\, in person\, or by mail. Learn about registration options. \n\n\n\nFor a full list of camps\, visit www.schoolcraft.edu/koc \n\n\n\nQuestions? Contact the PPL office at: (734) 462-4448 or ppl@schoolcraft.edu
URL:https://www.schoolcraft.edu/event/ppl-kids-on-campus-registration-begins-2-13/2025-05-08/
CATEGORIES:Community,Personal & Professional Learning
ATTACH;FMTTYPE=image/jpeg:https://www.schoolcraft.edu/wp-content/uploads/2024/01/20230626_PPL_Kids-on-Campus_Blast-off-Space-Camp_Grades-1-and-2_272-scaled.jpg
ORGANIZER;CN="Personal &#038%3B Professional Learning (PPL)":MAILTO:ppl@schoolcraft.edu
END:VEVENT
BEGIN:VEVENT
DTSTART;TZID=UTC:20250508T130000
DTEND;TZID=UTC:20250508T160000
DTSTAMP:20260422T070630
CREATED:20250504T165530Z
LAST-MODIFIED:20250504T165533Z
UID:7345-1746709200-1746720000@www.schoolcraft.edu
SUMMARY:Advising with Wayne State University beginning May 8
DESCRIPTION:Are you planning to transfer to Wayne State University? \n\n\n\nNo need to make the trip to their campus. You can meet with one of their academic advisors right here at Schoolcraft and learn more about their process\, requirements\, and program offerings. \n\n\n\nAdvisors will be able to meet with students individually to discuss specific information about programs and transfer options. \n\n\n\nSimply sign in at the Advising office\, in the McDowell Center\, room 105. This walk-in advising service is available to any current Schoolcraft student. Students will be seen on a first-come first-seen basis. \n\n\n\nIf you have any questions\, call 734-462-4429.
URL:https://www.schoolcraft.edu/event/advising-with-wayne-state-university-beginning-may-8/2025-05-08/
CATEGORIES:University Visits
ATTACH;FMTTYPE=image/jpeg:https://www.schoolcraft.edu/wp-content/uploads/2025/01/wayne-state-university.jpg
ORGANIZER;CN="Academic Advising":MAILTO:eadvise@schoolcraft.edu
END:VEVENT
END:VCALENDAR