



BEGIN:VCALENDAR
VERSION:2.0
PRODID:-//Schoolcraft College - ECPv6.15.17.1//NONSGML v1.0//EN
CALSCALE:GREGORIAN
METHOD:PUBLISH
X-ORIGINAL-URL:https://www.schoolcraft.edu
X-WR-CALDESC:Events for Schoolcraft College
REFRESH-INTERVAL;VALUE=DURATION:PT1H
X-Robots-Tag:noindex
X-PUBLISHED-TTL:PT1H
BEGIN:VTIMEZONE
TZID:UTC
BEGIN:STANDARD
TZOFFSETFROM:+0000
TZOFFSETTO:+0000
TZNAME:UTC
DTSTART:20240101T000000
END:STANDARD
END:VTIMEZONE
BEGIN:VEVENT
DTSTART;TZID=UTC:20250403T083000
DTEND;TZID=UTC:20250403T093000
DTSTAMP:20260421T184723
CREATED:20241112T174804Z
LAST-MODIFIED:20250217T162632Z
UID:6811-1743669000-1743672600@www.schoolcraft.edu
SUMMARY:Coffee and Contracting
DESCRIPTION:Virtual – No fee\, registration is required. \n\n\n\n\n\n\n\nJoin our Schoolcraft College APEX Accelerator counselors for an opportunity to discuss government contracting\, procurement assistance and other relevant contracting topics. \n\n\n\nBring your questions and your coffee! \n\n\n\nSchoolcraft APEX Accelerator Team 734-462-4438 or apex@schoolcraft.edu \n\n\n\n\n\n\n\nRegister Now \n\n\n\n\n\n\n\nThe APEX Accelerator is funded in part through a cooperative agreement with the Department of Defense. Additionally\, the Schoolcraft College APEX Accelerator is funded by the Michigan Economic Development Corporation (MEDC) and Schoolcraft College.
URL:https://www.schoolcraft.edu/event/coffee-and-contracting-6/2025-04-03/
CATEGORIES:Workforce & Economic Development
ATTACH;FMTTYPE=image/jpeg:https://www.schoolcraft.edu/wp-content/uploads/2024/11/coffee-contracting-2025.jpg
ORGANIZER;CN="Workforce &amp%3B Economic Development":MAILTO:bdc@schoolcraft.edu
END:VEVENT
BEGIN:VEVENT
DTSTART;TZID=UTC:20250403T090000
DTEND;TZID=UTC:20250403T170000
DTSTAMP:20260421T184723
CREATED:20240822T203628Z
LAST-MODIFIED:20240822T203628Z
UID:6629-1743670800-1743699600@www.schoolcraft.edu
SUMMARY:Wayne State University: Mike Ilitch School of Business
DESCRIPTION:Are you planning to transfer to Wayne State University: Mike Ilitch School of Business? No need to make the trip to their campus. Students can meet with a Wayne State University: Mike Ilitch School of Business advisor in the Jeffress Center room 330 or remotely. Please contact 734-462-3450\, or Email patricia.michno@wayne.edu to schedule an appointment.
URL:https://www.schoolcraft.edu/event/wayne-state-university-mike-ilitch-school-of-business/2025-04-03/
CATEGORIES:University Visits
ATTACH;FMTTYPE=image/jpeg:https://www.schoolcraft.edu/wp-content/uploads/2024/08/wsu-mi-school-business.jpg
ORGANIZER;CN="Academic Advising":MAILTO:eadvise@schoolcraft.edu
END:VEVENT
BEGIN:VEVENT
DTSTART;TZID=UTC:20250403T130000
DTEND;TZID=UTC:20250403T160000
DTSTAMP:20260421T184723
CREATED:20240422T181626Z
LAST-MODIFIED:20240422T181626Z
UID:6610-1743685200-1743696000@www.schoolcraft.edu
SUMMARY:Advising with Wayne State University
DESCRIPTION:Are you planning to transfer to Wayne State University? \n\n\n\nNo need to make the trip to their campus. You can meet with one of their academic advisors right here at Schoolcraft and learn more about their process\, requirements\, and program offerings. \n\n\n\nAdvisors will be able to meet with students individually to discuss specific information about programs and transfer options. \n\n\n\nSimply sign in at the Advising office\, in the McDowell Center\, room 105. This walk-in advising service is available to any current Schoolcraft student. Students will be seen on a first-come first-seen basis. \n\n\n\nIf you have any questions call 734-462-4429.
URL:https://www.schoolcraft.edu/event/advising-with-wayne-state-university-2024-2024-05-16/2025-04-03/
CATEGORIES:University Visits
ATTACH;FMTTYPE=image/jpeg:https://www.schoolcraft.edu/wp-content/uploads/2025/01/wayne-state-university.jpg
ORGANIZER;CN="Academic Advising":MAILTO:eadvise@schoolcraft.edu
END:VEVENT
BEGIN:VEVENT
DTSTART;TZID=UTC:20250403T180000
DTEND;TZID=UTC:20250403T200000
DTSTAMP:20260421T184723
CREATED:20240620T141303Z
LAST-MODIFIED:20250630T175609Z
UID:6562-1743703200-1743710400@www.schoolcraft.edu
SUMMARY:Starting a Business – In Person
DESCRIPTION:Join us for an accelerated walkthrough of our “Starting A Business” course. This introductory workshop covers the process of evaluating market potential for your products or services\, startup costs and financing options\, plus initial steps for writing a business plan. \n\n\n\nDesigned for individuals who are considering self-employment or who may be at the beginning stages of starting a business. It will help aspiring entrepreneurs assess their abilities to lead and manage a company as well as evaluate market and sales potential for their products/services. Start-up costs\, financing options and business planning are introduced\, along with necessary steps to getting started. We will also address some of the challenges and opportunities of starting a business. \n\n\n\nRegister with the MI-SBDC (Michigan Small Business Development Center) \n\n\n\n\nGo to https://michigansbdc.org/get-started/training-events/view/\n\n\n\nLocate specific class you wish to attend\n\n\n\nFollow Register prompt\n\n\n\n\n\n\n\n\n\n\n\n\nFree of Charge but Pre-Registration is Required
URL:https://www.schoolcraft.edu/event/starting-a-business-in-person-8-2024-11-12/2025-04-03/
CATEGORIES:Workforce & Economic Development
ATTACH;FMTTYPE=image/png:https://www.schoolcraft.edu/wp-content/uploads/2021/10/jumpstart-your-business.png
ORGANIZER;CN="Workforce &amp%3B Economic Development":MAILTO:bdc@schoolcraft.edu
END:VEVENT
END:VCALENDAR