



BEGIN:VCALENDAR
VERSION:2.0
PRODID:-//Schoolcraft College - ECPv6.15.17.1//NONSGML v1.0//EN
CALSCALE:GREGORIAN
METHOD:PUBLISH
X-ORIGINAL-URL:https://www.schoolcraft.edu
X-WR-CALDESC:Events for Schoolcraft College
REFRESH-INTERVAL;VALUE=DURATION:PT1H
X-Robots-Tag:noindex
X-PUBLISHED-TTL:PT1H
BEGIN:VTIMEZONE
TZID:UTC
BEGIN:STANDARD
TZOFFSETFROM:+0000
TZOFFSETTO:+0000
TZNAME:UTC
DTSTART:20240101T000000
END:STANDARD
END:VTIMEZONE
BEGIN:VEVENT
DTSTART;TZID=UTC:20251209T100000
DTEND;TZID=UTC:20251209T130000
DTSTAMP:20260420T172948
CREATED:20251001T193404Z
LAST-MODIFIED:20251001T193404Z
UID:8065-1765274400-1765285200@www.schoolcraft.edu
SUMMARY:Wayne State University Visit
DESCRIPTION:Representatives from Wayne State University will be available to meet with Schoolcraft students to answer general questions about transfer options. \n\n\n\nDate & Location Info: \n\n\n\n\n\n\nMonday Oct. 13th\, from 10am – 1pm\, at the Forum.\n\n\n\nWednesday Nov. 19th\, from 10am – 1pm\, at Liberal Arts.\n\n\n\nWednesday Dec. 9th\, from 10am – 1pm\, at Health Science.
URL:https://www.schoolcraft.edu/event/wayne-state-university-visit-2/2025-12-09/
CATEGORIES:University Visits
ATTACH;FMTTYPE=image/jpeg:https://www.schoolcraft.edu/wp-content/uploads/2025/01/wayne-state-university.jpg
END:VEVENT
BEGIN:VEVENT
DTSTART;TZID=UTC:20251119T100000
DTEND;TZID=UTC:20251119T130000
DTSTAMP:20260420T172948
CREATED:20251001T193404Z
LAST-MODIFIED:20251001T193404Z
UID:8064-1763546400-1763557200@www.schoolcraft.edu
SUMMARY:Wayne State University Visit
DESCRIPTION:Representatives from Wayne State University will be available to meet with Schoolcraft students to answer general questions about transfer options. \n\n\n\nDate & Location Info: \n\n\n\n\n\n\nMonday Oct. 13th\, from 10am – 1pm\, at the Forum.\n\n\n\nWednesday Nov. 19th\, from 10am – 1pm\, at Liberal Arts.\n\n\n\nWednesday Dec. 9th\, from 10am – 1pm\, at Health Science.
URL:https://www.schoolcraft.edu/event/wayne-state-university-visit-2/2025-11-19/
CATEGORIES:University Visits
ATTACH;FMTTYPE=image/jpeg:https://www.schoolcraft.edu/wp-content/uploads/2025/01/wayne-state-university.jpg
END:VEVENT
BEGIN:VEVENT
DTSTART;TZID=UTC:20251013T100000
DTEND;TZID=UTC:20251013T130000
DTSTAMP:20260420T172948
CREATED:20251001T193404Z
LAST-MODIFIED:20251001T193407Z
UID:8062-1760349600-1760360400@www.schoolcraft.edu
SUMMARY:Wayne State University Visit
DESCRIPTION:Representatives from Wayne State University will be available to meet with Schoolcraft students to answer general questions about transfer options. \n\n\n\nDate & Location Info: \n\n\n\n\n\n\nMonday Oct. 13th\, from 10am – 1pm\, at the Forum.\n\n\n\nWednesday Nov. 19th\, from 10am – 1pm\, at Liberal Arts.\n\n\n\nWednesday Dec. 9th\, from 10am – 1pm\, at Health Science.
URL:https://www.schoolcraft.edu/event/wayne-state-university-visit-2/2025-10-13/
CATEGORIES:University Visits
ATTACH;FMTTYPE=image/jpeg:https://www.schoolcraft.edu/wp-content/uploads/2025/01/wayne-state-university.jpg
END:VEVENT
END:VCALENDAR